BEGIN:VCALENDAR
VERSION:2.0
PRODID:-//Extinction Rebellion Nottingham - ECPv6.15.14//NONSGML v1.0//EN
CALSCALE:GREGORIAN
METHOD:PUBLISH
X-WR-CALNAME:Extinction Rebellion Nottingham
X-ORIGINAL-URL:https://xrnottingham.org
X-WR-CALDESC:Events for Extinction Rebellion Nottingham
REFRESH-INTERVAL;VALUE=DURATION:PT1H
X-Robots-Tag:noindex
X-PUBLISHED-TTL:PT1H
BEGIN:VTIMEZONE
TZID:UTC
BEGIN:STANDARD
TZOFFSETFROM:+0000
TZOFFSETTO:+0000
TZNAME:UTC
DTSTART:20240101T000000
END:STANDARD
END:VTIMEZONE
BEGIN:VEVENT
DTSTART;TZID=UTC:20251104T130000
DTEND;TZID=UTC:20251104T150000
DTSTAMP:20260421T015751
CREATED:20251009T085440Z
LAST-MODIFIED:20251009T085440Z
UID:12956-1762261200-1762268400@xrnottingham.org
SUMMARY:Climate Cafe - all welcome
DESCRIPTION:All welcome.\nCome and chat\, exchange ideas\, connect with other members\, friendly relaxed space. \n1pm – 3pm\nTea\, coffee\, cake\, chat\nYou can also bring your own lunch to eat (as the venue’s kitchen is closed and they have given permission for this) \nMeet in the Malt Cross\n16 St James’s St\, Nottingham NG1 6FG \nOrganised by the Regenerative Cultures team\, read more about this team here
URL:https://xrnottingham.org/event/climate-cafe-all-welcome-59/
LOCATION:Malt Cross\, 16 St James’s Street\, Nottingham\, NG1 6FG
CATEGORIES:Chat and Connect
ATTACH;FMTTYPE=image/png:https://xrnottingham.org/wp-content/uploads/2024/03/ClimateCafe_banner.png
ORGANIZER;CN="Extinction Rebellion Nottingham":MAILTO:info@xrnottingham.org
END:VEVENT
BEGIN:VEVENT
DTSTART;TZID=UTC:20251110T193000
DTEND;TZID=UTC:20251110T210000
DTSTAMP:20260421T015751
CREATED:20250917T214510Z
LAST-MODIFIED:20250917T214510Z
UID:12930-1762803000-1762808400@xrnottingham.org
SUMMARY:XR Nottingham Meeting
DESCRIPTION:All welcome to help create ideas\, weave practical plans and make stuff happen! \n7.30pm – 9pm at the Broadway Cinema\nAsk at the reception desk for which room we are meeting in.
URL:https://xrnottingham.org/event/xr-nottingham-meeting-4/
LOCATION:Broadway Cinema\, Broadway Cinema
ATTACH;FMTTYPE=image/png:https://xrnottingham.org/wp-content/uploads/2025/09/XRNottinghamEvent.png
END:VEVENT
BEGIN:VEVENT
DTSTART;TZID=UTC:20251111T130000
DTEND;TZID=UTC:20251111T150000
DTSTAMP:20260421T015751
CREATED:20251009T085510Z
LAST-MODIFIED:20251110T214634Z
UID:12958-1762866000-1762873200@xrnottingham.org
SUMMARY:Climate Cafe - all welcome
DESCRIPTION:All welcome.\nCome and chat about climate and environment\, exchange ideas\, connect\, friendly relaxed space. \n1pm – 3pm\nTea\, coffee\, cake\, chat \nFood available to buy \nMeet in the Malt Cross\n16 St James’s St\, Nottingham NG1 6FG \nOrganised by the Regenerative Cultures team\, read more about this team here
URL:https://xrnottingham.org/event/climate-cafe-all-welcome-60/
LOCATION:Malt Cross\, 16 St James’s Street\, Nottingham\, NG1 6FG
CATEGORIES:Chat and Connect
ATTACH;FMTTYPE=image/png:https://xrnottingham.org/wp-content/uploads/2024/03/ClimateCafe_banner.png
ORGANIZER;CN="Extinction Rebellion Nottingham":MAILTO:info@xrnottingham.org
END:VEVENT
BEGIN:VEVENT
DTSTART;TZID=UTC:20251115T110000
DTEND;TZID=UTC:20251115T140000
DTSTAMP:20260421T015751
CREATED:20251111T085052Z
LAST-MODIFIED:20251111T085209Z
UID:12976-1763204400-1763215200@xrnottingham.org
SUMMARY:COP30 - Outreach and Action
DESCRIPTION:Saturday 15th November 11-2pm\nOutside Barclays in the city centre \nWhile the world leaders gather to talk about the Climate Crisis in Brazil\, we will be gathering outside Barclays to remind the people of Nottingham that the climate crisis is still here. \nCome join in with outreach with our simple and effective survey boards (no previous experience needed). \nOr hold an umbrella as part of our pop-up actions! \nThis is an event alongside Greenpeace and Friends of the Earth.
URL:https://xrnottingham.org/event/cop30-outreach-and-action/
LOCATION:Barclays Bank\, 2 High Street\, Nottingham. NG1 2EN\, Nottingham
ATTACH;FMTTYPE=image/jpeg:https://xrnottingham.org/wp-content/uploads/2025/11/CopOut1.jpg
END:VEVENT
BEGIN:VEVENT
DTSTART;TZID=UTC:20251118T130000
DTEND;TZID=UTC:20251118T150000
DTSTAMP:20260421T015751
CREATED:20251009T085535Z
LAST-MODIFIED:20251110T214524Z
UID:12960-1763470800-1763478000@xrnottingham.org
SUMMARY:Climate Cafe - all welcome
DESCRIPTION:All welcome.\nCome and chat about climate and environment\, exchange ideas\, connect\, friendly relaxed space. \n1pm – 3pm\nTea\, coffee\, cake\, chat \nFood available to buy \nMeet in the Malt Cross\n16 St James’s St\, Nottingham NG1 6FG \nOrganised by the Regenerative Cultures team\, read more about this team here
URL:https://xrnottingham.org/event/climate-cafe-all-welcome-61/
LOCATION:Malt Cross\, 16 St James’s Street\, Nottingham\, NG1 6FG
CATEGORIES:Chat and Connect
ATTACH;FMTTYPE=image/png:https://xrnottingham.org/wp-content/uploads/2024/03/ClimateCafe_banner.png
ORGANIZER;CN="Extinction Rebellion Nottingham":MAILTO:info@xrnottingham.org
END:VEVENT
BEGIN:VEVENT
DTSTART;TZID=UTC:20251124T193000
DTEND;TZID=UTC:20251124T210000
DTSTAMP:20260421T015751
CREATED:20250917T214530Z
LAST-MODIFIED:20250917T214530Z
UID:12932-1764012600-1764018000@xrnottingham.org
SUMMARY:XR Nottingham Meeting
DESCRIPTION:All welcome to help create ideas\, weave practical plans and make stuff happen! \n7.30pm – 9pm at the Broadway Cinema\nAsk at the reception desk for which room we are meeting in.
URL:https://xrnottingham.org/event/xr-nottingham-meeting-5/
LOCATION:Broadway Cinema\, Broadway Cinema
ATTACH;FMTTYPE=image/png:https://xrnottingham.org/wp-content/uploads/2025/09/XRNottinghamEvent.png
END:VEVENT
END:VCALENDAR