BEGIN:VCALENDAR
VERSION:2.0
PRODID:-//Extinction Rebellion Nottingham - ECPv6.15.14//NONSGML v1.0//EN
CALSCALE:GREGORIAN
METHOD:PUBLISH
X-WR-CALNAME:Extinction Rebellion Nottingham
X-ORIGINAL-URL:https://xrnottingham.org
X-WR-CALDESC:Events for Extinction Rebellion Nottingham
REFRESH-INTERVAL;VALUE=DURATION:PT1H
X-Robots-Tag:noindex
X-PUBLISHED-TTL:PT1H
BEGIN:VTIMEZONE
TZID:UTC
BEGIN:STANDARD
TZOFFSETFROM:+0000
TZOFFSETTO:+0000
TZNAME:UTC
DTSTART:20240101T000000
END:STANDARD
END:VTIMEZONE
BEGIN:VEVENT
DTSTART;TZID=UTC:20250403T183000
DTEND;TZID=UTC:20250403T210000
DTSTAMP:20260425T115503
CREATED:20250302T180113Z
LAST-MODIFIED:20250302T180113Z
UID:12718-1743705000-1743714000@xrnottingham.org
SUMMARY:XR Nottingham Social
DESCRIPTION:Join us for our new monthly pub socials – on the first Thursday of each month. \nThursday 3rd April \nFrom 6.30pm @ The Malt Cross \nAn opportunity for regular rebels to connect and for new folks to meet us\, hear about recent actions and find out how to get more involved. \nTell your mates and come for a chat over a pint (or a juice)! \nAccessible room\, relaxed atmosphere. Look out for the flags.
URL:https://xrnottingham.org/event/xr-nottingham-social-5/
LOCATION:Malt Cross\, 16 St James’s Street\, Nottingham\, NG1 6FG
ATTACH;FMTTYPE=image/png:https://xrnottingham.org/wp-content/uploads/2025/01/XR-Notts-Social.png
ORGANIZER;CN="Extinction Rebellion Nottingham":MAILTO:info@xrnottingham.org
END:VEVENT
BEGIN:VEVENT
DTSTART;TZID=UTC:20250408T130000
DTEND;TZID=UTC:20250408T150000
DTSTAMP:20260425T115503
CREATED:20250402T184037Z
LAST-MODIFIED:20250402T184037Z
UID:12730-1744117200-1744124400@xrnottingham.org
SUMMARY:Climate Cafe - all welcome
DESCRIPTION:All welcome.\nCome and chat\, exchange ideas\, connect with other members\, friendly relaxed space. \n1pm – 3pm\nTea\, coffee\, cake\, chat \nMeet in the Malt Cross\n16 St James’s St\, Nottingham NG1 6FG \nOrganised by the Regenerative Cultures team\, read more about this team here
URL:https://xrnottingham.org/event/climate-cafe-all-welcome-31/
LOCATION:Malt Cross\, 16 St James’s Street\, Nottingham\, NG1 6FG
CATEGORIES:Chat and Connect
ATTACH;FMTTYPE=image/png:https://xrnottingham.org/wp-content/uploads/2024/03/ClimateCafe_banner.png
ORGANIZER;CN="Extinction Rebellion Nottingham":MAILTO:info@xrnottingham.org
END:VEVENT
BEGIN:VEVENT
DTSTART;TZID=UTC:20250413T170000
DTEND;TZID=UTC:20250413T200000
DTSTAMP:20260425T115503
CREATED:20250408T081132Z
LAST-MODIFIED:20250408T081143Z
UID:12736-1744563600-1744574400@xrnottingham.org
SUMMARY:Poetry open mic night
DESCRIPTION:As a celebration of Benjamin Zephaniah’s life and legacy. \nSun 13th 5-8pm\nMalt Cross\, St James St. NG1 6FG\nFree entry\, donations welcome. \nManjit from Poets Against Racism and Jeannie from XR Nottingham’s ‘Alliances team’ will be compering an open mic event for poems\, speeches\, prose and music. \nBenjamin Zephaniah was a writer\, activist\, musician and a professor of poetry from Birmingham. He wrote about many issues including racism\, injustice\, poverty and also the climate and nature crisis. \nListen to some of his words – a poem of a future vision for the planet.
URL:https://xrnottingham.org/event/zephaniah/
ATTACH;FMTTYPE=image/png:https://xrnottingham.org/wp-content/uploads/2025/04/Screenshot-2025-04-08-at-09.10.45.png
END:VEVENT
BEGIN:VEVENT
DTSTART;TZID=UTC:20250415T130000
DTEND;TZID=UTC:20250415T150000
DTSTAMP:20260425T115503
CREATED:20250402T184513Z
LAST-MODIFIED:20250402T184513Z
UID:12732-1744722000-1744729200@xrnottingham.org
SUMMARY:Climate Cafe - all welcome
DESCRIPTION:All welcome.\nCome and chat\, exchange ideas\, connect with other members\, friendly relaxed space. \n1pm – 3pm\nTea\, coffee\, cake\, chat \nMeet in the Malt Cross\n16 St James’s St\, Nottingham NG1 6FG \nOrganised by the Regenerative Cultures team\, read more about this team here
URL:https://xrnottingham.org/event/climate-cafe-all-welcome-32/
LOCATION:Malt Cross\, 16 St James’s Street\, Nottingham\, NG1 6FG
CATEGORIES:Chat and Connect
ATTACH;FMTTYPE=image/png:https://xrnottingham.org/wp-content/uploads/2024/03/ClimateCafe_banner.png
ORGANIZER;CN="Extinction Rebellion Nottingham":MAILTO:info@xrnottingham.org
END:VEVENT
BEGIN:VEVENT
DTSTART;TZID=UTC:20250422T130000
DTEND;TZID=UTC:20250422T150000
DTSTAMP:20260425T115503
CREATED:20250402T191442Z
LAST-MODIFIED:20250402T193434Z
UID:12734-1745326800-1745334000@xrnottingham.org
SUMMARY:Climate Cafe - all welcome
DESCRIPTION:All welcome.\nCome and chat\, exchange ideas\, connect with other members\, friendly relaxed space. \n1pm – 3pm\nTea\, coffee\, cake\, chat \nMeet in the Malt Cross\n16 St James’s St\, Nottingham NG1 6FG \nOrganised by the Regenerative Cultures team\, read more about this team here
URL:https://xrnottingham.org/event/climate-cafe-all-welcome-33/
LOCATION:Malt Cross\, 16 St James’s Street\, Nottingham\, NG1 6FG
CATEGORIES:Chat and Connect
ATTACH;FMTTYPE=image/png:https://xrnottingham.org/wp-content/uploads/2024/03/ClimateCafe_banner.png
ORGANIZER;CN="Extinction Rebellion Nottingham":MAILTO:info@xrnottingham.org
END:VEVENT
BEGIN:VEVENT
DTSTART;TZID=UTC:20250429T130000
DTEND;TZID=UTC:20250429T150000
DTSTAMP:20260425T115503
CREATED:20250416T225035Z
LAST-MODIFIED:20250416T225035Z
UID:12742-1745931600-1745938800@xrnottingham.org
SUMMARY:Climate Cafe - all welcome
DESCRIPTION:All welcome.\nCome and chat\, exchange ideas\, connect with other members\, friendly relaxed space. \n1pm – 3pm\nTea\, coffee\, cake\, chat \nMeet in the Malt Cross\n16 St James’s St\, Nottingham NG1 6FG \nOrganised by the Regenerative Cultures team\, read more about this team here
URL:https://xrnottingham.org/event/climate-cafe-all-welcome-34/
LOCATION:Malt Cross\, 16 St James’s Street\, Nottingham\, NG1 6FG
CATEGORIES:Chat and Connect
ATTACH;FMTTYPE=image/png:https://xrnottingham.org/wp-content/uploads/2024/03/ClimateCafe_banner.png
ORGANIZER;CN="Extinction Rebellion Nottingham":MAILTO:info@xrnottingham.org
END:VEVENT
END:VCALENDAR