BEGIN:VCALENDAR
VERSION:2.0
PRODID:-//Extinction Rebellion Nottingham - ECPv6.15.14//NONSGML v1.0//EN
CALSCALE:GREGORIAN
METHOD:PUBLISH
X-WR-CALNAME:Extinction Rebellion Nottingham
X-ORIGINAL-URL:https://xrnottingham.org
X-WR-CALDESC:Events for Extinction Rebellion Nottingham
REFRESH-INTERVAL;VALUE=DURATION:PT1H
X-Robots-Tag:noindex
X-PUBLISHED-TTL:PT1H
BEGIN:VTIMEZONE
TZID:UTC
BEGIN:STANDARD
TZOFFSETFROM:+0000
TZOFFSETTO:+0000
TZNAME:UTC
DTSTART:20240101T000000
END:STANDARD
END:VTIMEZONE
BEGIN:VEVENT
DTSTART;TZID=UTC:20250306T183000
DTEND;TZID=UTC:20250306T210000
DTSTAMP:20260425T132014
CREATED:20250302T175754Z
LAST-MODIFIED:20250302T175754Z
UID:12716-1741285800-1741294800@xrnottingham.org
SUMMARY:XR Nottingham Social
DESCRIPTION:Join us for our new monthly pub socials – on the first Thursday of each month. \nThursday 6th March \nFrom 6.30pm @ The Malt Cross \nAn opportunity for regular rebels to connect and for new folks to meet us\, hear about recent actions and find out how to get more involved. \nTell your mates and come for a chat over a pint (or a juice)! \nAccessible room\, relaxed atmosphere. Look out for the flags.
URL:https://xrnottingham.org/event/xr-nottingham-social-4/
LOCATION:Malt Cross\, 16 St James’s Street\, Nottingham\, NG1 6FG
ATTACH;FMTTYPE=image/png:https://xrnottingham.org/wp-content/uploads/2025/01/XR-Notts-Social.png
ORGANIZER;CN="Extinction Rebellion Nottingham":MAILTO:info@xrnottingham.org
END:VEVENT
BEGIN:VEVENT
DTSTART;TZID=UTC:20250315T140000
DTEND;TZID=UTC:20250315T163000
DTSTAMP:20260425T132014
CREATED:20250303T201442Z
LAST-MODIFIED:20250309T180820Z
UID:12722-1742047200-1742056200@xrnottingham.org
SUMMARY:Spring into Action
DESCRIPTION:Welcome to the next XR Nottingham gathering: “Spring into Action” \nSaturday 15th March \n2pm-4.30pm @ The Buddhist Centre\, St Mary’s Place \nHear success stories\, local and national news\, learn about the next actions and discuss the new strategy brief for XR nationally. \nShare cake\, a bit of fun😊\, maybe a song or two and get to know each other. \nAll very welcome!
URL:https://xrnottingham.org/event/group-meeting-2/
LOCATION:Nottingham Buddhist Centre\, 9 St Mary’s Place\, Nottingham\, NG1 1PH.
CATEGORIES:Open WG meeting
ATTACH;FMTTYPE=image/jpeg:https://xrnottingham.org/wp-content/uploads/2025/03/XR-Notts-group-meeting2.jpg
ORGANIZER;CN="Extinction Rebellion Nottingham":MAILTO:info@xrnottingham.org
END:VEVENT
END:VCALENDAR