BEGIN:VCALENDAR
VERSION:2.0
PRODID:-//Extinction Rebellion Nottingham - ECPv6.15.14//NONSGML v1.0//EN
CALSCALE:GREGORIAN
METHOD:PUBLISH
X-ORIGINAL-URL:https://xrnottingham.org
X-WR-CALDESC:Events for Extinction Rebellion Nottingham
REFRESH-INTERVAL;VALUE=DURATION:PT1H
X-Robots-Tag:noindex
X-PUBLISHED-TTL:PT1H
BEGIN:VTIMEZONE
TZID:UTC
BEGIN:STANDARD
TZOFFSETFROM:+0000
TZOFFSETTO:+0000
TZNAME:UTC
DTSTART:20230101T000000
END:STANDARD
END:VTIMEZONE
BEGIN:VEVENT
DTSTART;TZID=UTC:20241203T130000
DTEND;TZID=UTC:20241203T150000
DTSTAMP:20260425T180006
CREATED:20241116T190835Z
LAST-MODIFIED:20241116T190835Z
UID:12620-1733230800-1733238000@xrnottingham.org
SUMMARY:Climate Cafe - all welcome
DESCRIPTION:All welcome.\nCome and chat\, exchange ideas\, connect with other members\, friendly relaxed space. \n1pm – 3pm\nTea\, coffee\, cake\, chat \nMeet in the Malt Cross\n16 St James’s St\, Nottingham NG1 6FG \nOrganised by the Regenerative Cultures team\, read more about this team here
URL:https://xrnottingham.org/event/climate-cafe-all-welcome-21/
LOCATION:Malt Cross\, 16 St James’s Street\, Nottingham\, NG1 6FG
CATEGORIES:Chat and Connect
ATTACH;FMTTYPE=image/png:https://xrnottingham.org/wp-content/uploads/2024/03/ClimateCafe_banner.png
ORGANIZER;CN="Extinction Rebellion Nottingham":MAILTO:info@xrnottingham.org
END:VEVENT
BEGIN:VEVENT
DTSTART;TZID=UTC:20241210T130000
DTEND;TZID=UTC:20241210T150000
DTSTAMP:20260425T180006
CREATED:20241116T190849Z
LAST-MODIFIED:20241116T190849Z
UID:12622-1733835600-1733842800@xrnottingham.org
SUMMARY:Climate Cafe - all welcome
DESCRIPTION:All welcome.\nCome and chat\, exchange ideas\, connect with other members\, friendly relaxed space. \n1pm – 3pm\nTea\, coffee\, cake\, chat \nMeet in the Malt Cross\n16 St James’s St\, Nottingham NG1 6FG \nOrganised by the Regenerative Cultures team\, read more about this team here
URL:https://xrnottingham.org/event/climate-cafe-all-welcome-22/
LOCATION:Malt Cross\, 16 St James’s Street\, Nottingham\, NG1 6FG
CATEGORIES:Chat and Connect
ATTACH;FMTTYPE=image/png:https://xrnottingham.org/wp-content/uploads/2024/03/ClimateCafe_banner.png
ORGANIZER;CN="Extinction Rebellion Nottingham":MAILTO:info@xrnottingham.org
END:VEVENT
BEGIN:VEVENT
DTSTART;TZID=UTC:20241215T140000
DTEND;TZID=UTC:20241215T163000
DTSTAMP:20260425T180006
CREATED:20241119T201035Z
LAST-MODIFIED:20241209T164908Z
UID:12627-1734271200-1734280200@xrnottingham.org
SUMMARY:Winter Social
DESCRIPTION:Join us for an XR Nottingham festive gathering. \nWhether you’re brand new to XR\, or been around for years\, whether you attend actions in Nottingham\, London\, support from home or just curious to meet us to see if you want to get more involved. All welcome (children included)! \nHear about all the actions of 2024 from ‘Tales of Rebellion’ speakers. \nEnjoy some games\, drumming\, singing\, cake and a quiz. \nGather with fellow rebels ahead of our winter break. \nFinger food vegan snacks and cake to share very welcome.
URL:https://xrnottingham.org/event/winter-social-2/
LOCATION:Malt Cross\, 16 St James’s Street\, Nottingham\, NG1 6FG
ATTACH;FMTTYPE=image/png:https://xrnottingham.org/wp-content/uploads/2024/11/Winter-Social.png
ORGANIZER;CN="Extinction Rebellion Nottingham":MAILTO:info@xrnottingham.org
END:VEVENT
BEGIN:VEVENT
DTSTART;TZID=UTC:20241217T130000
DTEND;TZID=UTC:20241217T150000
DTSTAMP:20260425T180006
CREATED:20241116T190903Z
LAST-MODIFIED:20241116T190903Z
UID:12624-1734440400-1734447600@xrnottingham.org
SUMMARY:Climate Cafe - all welcome
DESCRIPTION:All welcome.\nCome and chat\, exchange ideas\, connect with other members\, friendly relaxed space. \n1pm – 3pm\nTea\, coffee\, cake\, chat \nMeet in the Malt Cross\n16 St James’s St\, Nottingham NG1 6FG \nOrganised by the Regenerative Cultures team\, read more about this team here
URL:https://xrnottingham.org/event/climate-cafe-all-welcome-23/
LOCATION:Malt Cross\, 16 St James’s Street\, Nottingham\, NG1 6FG
CATEGORIES:Chat and Connect
ATTACH;FMTTYPE=image/png:https://xrnottingham.org/wp-content/uploads/2024/03/ClimateCafe_banner.png
ORGANIZER;CN="Extinction Rebellion Nottingham":MAILTO:info@xrnottingham.org
END:VEVENT
BEGIN:VEVENT
DTSTART;TZID=UTC:20241231T150000
DTEND;TZID=UTC:20241231T154500
DTSTAMP:20260425T180006
CREATED:20241218T172414Z
LAST-MODIFIED:20241218T172520Z
UID:12648-1735657200-1735659900@xrnottingham.org
SUMMARY:New/Old Year Gathering
DESCRIPTION:Friends and Neighbours join us – to see out the old year and welcome the new… \nAs 2024 becomes 2025\, we leave a year dominated by news of war\, climate disaster and financial hardship. With many of the values we hold dear under attack\, together we look ahead with grief\, concern and solidarity; gaining energy and hope from the strength of human community and creativity. \nYou are warmly invited to join with others for a brief silent vigil\, reflection and neighbourly connection. If you’d like\, please bring a candle and hot drinks (an extra cup or two?)\, and cake etc to share. \nWe’ll be by the big tree in front of the house. \nWrap up warm\, Light a candle for our world \n  \nCommunity event hosted by Extinction Rebellion
URL:https://xrnottingham.org/event/new-old-year-gathering/
LOCATION:Woodthorpe Park\, 486 Woodthorpe Drive\, Nottingham\, NG5 4DY
ATTACH;FMTTYPE=image/png:https://xrnottingham.org/wp-content/uploads/2024/12/Sherwood-Vigil.png
END:VEVENT
END:VCALENDAR