BEGIN:VCALENDAR
VERSION:2.0
PRODID:-//Extinction Rebellion Nottingham - ECPv6.15.14//NONSGML v1.0//EN
CALSCALE:GREGORIAN
METHOD:PUBLISH
X-WR-CALNAME:Extinction Rebellion Nottingham
X-ORIGINAL-URL:https://xrnottingham.org
X-WR-CALDESC:Events for Extinction Rebellion Nottingham
REFRESH-INTERVAL;VALUE=DURATION:PT1H
X-Robots-Tag:noindex
X-PUBLISHED-TTL:PT1H
BEGIN:VTIMEZONE
TZID:UTC
BEGIN:STANDARD
TZOFFSETFROM:+0000
TZOFFSETTO:+0000
TZNAME:UTC
DTSTART:20230101T000000
END:STANDARD
END:VTIMEZONE
BEGIN:VEVENT
DTSTART;VALUE=DATE:20241028
DTEND;VALUE=DATE:20241103
DTSTAMP:20260425T193556
CREATED:20241026T135647Z
LAST-MODIFIED:20241026T140553Z
UID:12604-1730073600-1730591999@xrnottingham.org
SUMMARY:Insure Our Survival - week of action
DESCRIPTION:Starting 28th Oct in London and also UK wide. Insure Our Survival campaign’s week of action targeted at the insurance industry. \nRead about the week of actions (London Mon 28th -Wed 30th and Birmingham on Fri 1st and many more!). Plus you can watch the ‘Star Wars’ themed promo video too. \nNottingham ‘rebels’ will be joining these actions and if you are interested you can email email hidden; JavaScript is required to get connected up. \nTo read more about the whole campaign – see the full ‘book’ on the Rebel Toolkit – with pages on ‘why target insurers’\, ‘strategy and aims’ and more.
URL:https://xrnottingham.org/event/insure-our-survival-week-of-action/
ATTACH;FMTTYPE=image/jpeg:https://xrnottingham.org/wp-content/uploads/2024/10/IOS-Starry-Facebook-v1.jpg
END:VEVENT
BEGIN:VEVENT
DTSTART;TZID=UTC:20241105T130000
DTEND;TZID=UTC:20241105T150000
DTSTAMP:20260425T193556
CREATED:20241026T134946Z
LAST-MODIFIED:20241026T134946Z
UID:12596-1730811600-1730818800@xrnottingham.org
SUMMARY:Climate Cafe - all welcome
DESCRIPTION:All welcome.\nCome and chat\, exchange ideas\, connect with other members\, friendly relaxed space. \n1pm – 3pm\nTea\, coffee\, cake\, chat \nMeet in the Malt Cross\n16 St James’s St\, Nottingham NG1 6FG \nOrganised by the Regenerative Cultures team\, read more about this team here
URL:https://xrnottingham.org/event/climate-cafe-all-welcome-17/
LOCATION:Malt Cross\, 16 St James’s Street\, Nottingham\, NG1 6FG
CATEGORIES:Chat and Connect
ATTACH;FMTTYPE=image/png:https://xrnottingham.org/wp-content/uploads/2024/03/ClimateCafe_banner.png
ORGANIZER;CN="Extinction Rebellion Nottingham":MAILTO:info@xrnottingham.org
END:VEVENT
BEGIN:VEVENT
DTSTART;TZID=UTC:20241106T193000
DTEND;TZID=UTC:20241106T210000
DTSTAMP:20260425T193556
CREATED:20241026T140421Z
LAST-MODIFIED:20241104T110735Z
UID:12607-1730921400-1730926800@xrnottingham.org
SUMMARY:Social - all welcome
DESCRIPTION:Post-action social. Whether you attended any of the Insure Our Survival actions or not – please feel free to join us for a drink and a chat at the Malt Cross on Wed 6th November from 7.30pm. \n  \n 
URL:https://xrnottingham.org/event/social-all-welcome/
LOCATION:Malt Cross\, 16 St James’s Street\, Nottingham\, NG1 6FG
ATTACH;FMTTYPE=image/png:https://xrnottingham.org/wp-content/uploads/2024/10/IOS_social_nottingham.png
END:VEVENT
BEGIN:VEVENT
DTSTART;TZID=UTC:20241112T130000
DTEND;TZID=UTC:20241112T150000
DTSTAMP:20260425T193556
CREATED:20241026T134959Z
LAST-MODIFIED:20241026T134959Z
UID:12598-1731416400-1731423600@xrnottingham.org
SUMMARY:Climate Cafe - all welcome
DESCRIPTION:All welcome.\nCome and chat\, exchange ideas\, connect with other members\, friendly relaxed space. \n1pm – 3pm\nTea\, coffee\, cake\, chat \nMeet in the Malt Cross\n16 St James’s St\, Nottingham NG1 6FG \nOrganised by the Regenerative Cultures team\, read more about this team here
URL:https://xrnottingham.org/event/climate-cafe-all-welcome-18/
LOCATION:Malt Cross\, 16 St James’s Street\, Nottingham\, NG1 6FG
CATEGORIES:Chat and Connect
ATTACH;FMTTYPE=image/png:https://xrnottingham.org/wp-content/uploads/2024/03/ClimateCafe_banner.png
ORGANIZER;CN="Extinction Rebellion Nottingham":MAILTO:info@xrnottingham.org
END:VEVENT
BEGIN:VEVENT
DTSTART;TZID=UTC:20241116T130000
DTEND;TZID=UTC:20241116T160000
DTSTAMP:20260425T193556
CREATED:20241112T155557Z
LAST-MODIFIED:20241112T155557Z
UID:12617-1731762000-1731772800@xrnottingham.org
SUMMARY:Grief\, Hope and Resilience in Dark Times
DESCRIPTION:Grief\, Hope and Resilience in Dark Times\n\nA community workshop to share our thoughts and feelings after Trump’s election\nand rebuild our collective courage and strength. \n📌 Saturday 16th November 1- 4 pm \nSumac Centre\, 245 Gladstone St\,NG7 6HX.Ten mins from Forest tram stop Or bus up Sherwood Rise to Beech Ave. \n⚫ 💚 ALL WELCOME ⚫ 💚
URL:https://xrnottingham.org/event/darktimes/
LOCATION:Sumac Centre\, Sumac Centre\, 245 Gladstone St\, Nottingham\, NG7 6HX\, United Kingdom
ATTACH;FMTTYPE=image/png:https://xrnottingham.org/wp-content/uploads/2024/11/sumac16nov.png
END:VEVENT
BEGIN:VEVENT
DTSTART;TZID=UTC:20241119T130000
DTEND;TZID=UTC:20241119T150000
DTSTAMP:20260425T193556
CREATED:20241026T135015Z
LAST-MODIFIED:20241026T135015Z
UID:12600-1732021200-1732028400@xrnottingham.org
SUMMARY:Climate Cafe - all welcome
DESCRIPTION:All welcome.\nCome and chat\, exchange ideas\, connect with other members\, friendly relaxed space. \n1pm – 3pm\nTea\, coffee\, cake\, chat \nMeet in the Malt Cross\n16 St James’s St\, Nottingham NG1 6FG \nOrganised by the Regenerative Cultures team\, read more about this team here
URL:https://xrnottingham.org/event/climate-cafe-all-welcome-19/
LOCATION:Malt Cross\, 16 St James’s Street\, Nottingham\, NG1 6FG
CATEGORIES:Chat and Connect
ATTACH;FMTTYPE=image/png:https://xrnottingham.org/wp-content/uploads/2024/03/ClimateCafe_banner.png
ORGANIZER;CN="Extinction Rebellion Nottingham":MAILTO:info@xrnottingham.org
END:VEVENT
BEGIN:VEVENT
DTSTART;TZID=UTC:20241126T130000
DTEND;TZID=UTC:20241126T150000
DTSTAMP:20260425T193556
CREATED:20241026T135028Z
LAST-MODIFIED:20241026T135028Z
UID:12602-1732626000-1732633200@xrnottingham.org
SUMMARY:Climate Cafe - all welcome
DESCRIPTION:All welcome.\nCome and chat\, exchange ideas\, connect with other members\, friendly relaxed space. \n1pm – 3pm\nTea\, coffee\, cake\, chat \nMeet in the Malt Cross\n16 St James’s St\, Nottingham NG1 6FG \nOrganised by the Regenerative Cultures team\, read more about this team here
URL:https://xrnottingham.org/event/climate-cafe-all-welcome-20/
LOCATION:Malt Cross\, 16 St James’s Street\, Nottingham\, NG1 6FG
CATEGORIES:Chat and Connect
ATTACH;FMTTYPE=image/png:https://xrnottingham.org/wp-content/uploads/2024/03/ClimateCafe_banner.png
ORGANIZER;CN="Extinction Rebellion Nottingham":MAILTO:info@xrnottingham.org
END:VEVENT
END:VCALENDAR