BEGIN:VCALENDAR
VERSION:2.0
PRODID:-//Extinction Rebellion Nottingham - ECPv6.15.14//NONSGML v1.0//EN
CALSCALE:GREGORIAN
METHOD:PUBLISH
X-WR-CALNAME:Extinction Rebellion Nottingham
X-ORIGINAL-URL:https://xrnottingham.org
X-WR-CALDESC:Events for Extinction Rebellion Nottingham
REFRESH-INTERVAL;VALUE=DURATION:PT1H
X-Robots-Tag:noindex
X-PUBLISHED-TTL:PT1H
BEGIN:VTIMEZONE
TZID:UTC
BEGIN:STANDARD
TZOFFSETFROM:+0000
TZOFFSETTO:+0000
TZNAME:UTC
DTSTART:20230101T000000
END:STANDARD
END:VTIMEZONE
BEGIN:VEVENT
DTSTART;TZID=UTC:20240830T100000
DTEND;TZID=UTC:20240901T170000
DTSTAMP:20260425T231404
CREATED:20240728T105917Z
LAST-MODIFIED:20240811T165957Z
UID:12473-1725012000-1725210000@xrnottingham.org
SUMMARY:Upgrade Democracy - we're going to Windsor!
DESCRIPTION:Book a coach ticket – or come down for a day. \nWe’re going to Windsor for the weekend. Part action\, part occupation\, part education and team building.\nReturn coach tickets available here (from £25) \nFri 30th Aug 9am Nottingham – Windsor\nSun 1st Sep 5pm Windsor – Nottingham \nInformation about the event on the UK website. \nNottingham are working on plans to get as many people there –  make sure you are on our email list\nor better still join our WhatsApp or Telegram broadcast for more regular info – to be connected with the WhatsApp\, email us with your phone number (email hidden; JavaScript is required).
URL:https://xrnottingham.org/event/upgrade-democracy-were-going-to-windsor/
ATTACH;FMTTYPE=image/png:https://xrnottingham.org/wp-content/uploads/2024/07/UD_XRNottmEvent3.png
END:VEVENT
BEGIN:VEVENT
DTSTART;TZID=UTC:20240908T120000
DTEND;TZID=UTC:20240908T180000
DTSTAMP:20260425T231404
CREATED:20240820T070254Z
LAST-MODIFIED:20240820T070254Z
UID:12512-1725796800-1725818400@xrnottingham.org
SUMMARY:XR at the Nottingham Green Festival
DESCRIPTION:Sunday September 8th – we’re going to the Green Festival! – art block printing (bring a t-shirt\, bag\, material etc) and information about taking direct action on the climate and ecological emergency. \nWe will also need volunteers to arrive early to help set things up and during the day – please contact email hidden; JavaScript is required if you can help.
URL:https://xrnottingham.org/event/green-festival-2024/
LOCATION:Arboretum
ATTACH;FMTTYPE=image/png:https://xrnottingham.org/wp-content/uploads/2023/08/XRGreenFest_2023.png
END:VEVENT
BEGIN:VEVENT
DTSTART;TZID=UTC:20240910T130000
DTEND;TZID=UTC:20240910T150000
DTSTAMP:20260425T231404
CREATED:20240906T090237Z
LAST-MODIFIED:20240906T090237Z
UID:12534-1725973200-1725980400@xrnottingham.org
SUMMARY:Climate Cafe - all welcome
DESCRIPTION:All welcome.\nCome and chat\, exchange ideas\, connect with other members\, friendly relaxed space. \n1pm – 3pm\nTea\, coffee\, cake\, chat \nMeet in the Malt Cross\n16 St James’s St\, Nottingham NG1 6FG \nOrganised by the Regenerative Cultures team\, read more about this team here
URL:https://xrnottingham.org/event/climate-cafe-all-welcome-10/
LOCATION:Malt Cross\, 16 St James’s Street\, Nottingham\, NG1 6FG
CATEGORIES:Chat and Connect
ATTACH;FMTTYPE=image/png:https://xrnottingham.org/wp-content/uploads/2024/03/ClimateCafe_banner.png
ORGANIZER;CN="Extinction Rebellion Nottingham":MAILTO:info@xrnottingham.org
END:VEVENT
BEGIN:VEVENT
DTSTART;TZID=UTC:20240910T190000
DTEND;TZID=UTC:20240910T210000
DTSTAMP:20260425T231404
CREATED:20240820T070842Z
LAST-MODIFIED:20240903T170625Z
UID:12519-1725994800-1726002000@xrnottingham.org
SUMMARY:XR Nottingham Book Club
DESCRIPTION:Chatting about ‘How to Blow up a Pipeline’ by Andreas Malm\nMammoth Cinema 7-9pm\nTue 10th September \nRead or listen to the book and join us for a relaxed conversation upstairs at Mammoth Cinema. \nA bit more about the book: How to Blow Up a Pipeline\, in this lyrical manifesto\, noted climate scholar (and saboteur of SUV tires and coal mines) Andreas Malm makes an impassioned call for the climate movement to escalate its tactics in the face of ecological collapse. We need\, he argues\, to force fossil fuel extraction to stop–with our actions\, with our bodies\, and by defusing and destroying its tools. We need\, in short\, to start blowing up some oil pipelines. \nOffering a counter-history of how mass popular change has occurred\, from the democratic revolutions overthrowing dictators to the movement against apartheid and for women’s suffrage\, Malm argues that the strategic acceptance of property destruction and violence has been the only route for revolutionary change. In a braided narrative that moves from the forests of Germany and the streets of London to the deserts of Iraq\, Malm offers us an incisive discussion of the politics and ethics of pacifism and violence\, democracy and social change\, strategy and tactics\, and a movement compelled by both the heart and the mind. Here is how we fight in a world on fire. \nNo obligation to have finished the book to come along.\nAll welcome.\nHot and cold drinks available to buy at low prices (bring cash) \nWe have a XR Nottm Book Club WhatsApp chat\, if you’d like to join it\, either ask at this next meeting\, or email email hidden; JavaScript is required with your phone number and we’ll send you a link to join.
URL:https://xrnottingham.org/event/xr-nottingham-book-club-4/
LOCATION:Mammoth Cinema\, 25 Broad St\, Nottingham NG1 3AP\, Mammoth Cinema\, 25 Broad St\, Nottingham NG1 3AP
ATTACH;FMTTYPE=image/png:https://xrnottingham.org/wp-content/uploads/2023/08/BookClub.png
ORGANIZER;CN="Extinction Rebellion Nottingham":MAILTO:info@xrnottingham.org
END:VEVENT
BEGIN:VEVENT
DTSTART;TZID=UTC:20240917T130000
DTEND;TZID=UTC:20240917T150000
DTSTAMP:20260425T231404
CREATED:20240906T090306Z
LAST-MODIFIED:20240906T090306Z
UID:12536-1726578000-1726585200@xrnottingham.org
SUMMARY:Climate Cafe - all welcome
DESCRIPTION:All welcome.\nCome and chat\, exchange ideas\, connect with other members\, friendly relaxed space. \n1pm – 3pm\nTea\, coffee\, cake\, chat \nMeet in the Malt Cross\n16 St James’s St\, Nottingham NG1 6FG \nOrganised by the Regenerative Cultures team\, read more about this team here
URL:https://xrnottingham.org/event/climate-cafe-all-welcome-11/
LOCATION:Malt Cross\, 16 St James’s Street\, Nottingham\, NG1 6FG
CATEGORIES:Chat and Connect
ATTACH;FMTTYPE=image/png:https://xrnottingham.org/wp-content/uploads/2024/03/ClimateCafe_banner.png
ORGANIZER;CN="Extinction Rebellion Nottingham":MAILTO:info@xrnottingham.org
END:VEVENT
BEGIN:VEVENT
DTSTART;TZID=UTC:20240922T163000
DTEND;TZID=UTC:20240922T180000
DTSTAMP:20260425T231404
CREATED:20240908T085930Z
LAST-MODIFIED:20240916T204157Z
UID:12540-1727022600-1727028000@xrnottingham.org
SUMMARY:What next? Stopping dirty insurers!
DESCRIPTION:Learn more about XR’s recent and upcoming actions. \nUpgrade Democracy\nHear about the successful 3-day Upgrade Democracy action a few weeks ago in Windsor (highlighting our 3rd demand for Citizens’ Assemblies). Feedback from people who attended to give you a connection to what an action like that feels like to attend. \nInsure our Survival\nListen and discuss why targeting the insurance industry is key to reducing emissions and ensuring a liveable future. Then hear about way to get involved either in London starting Mon Oct 28th\, but also around the UK later that week or by supporting from home. You can also read more about these actions here on the ‘Rebel Toolkit. \nBusy on Sunday – sign up to an Open Call instead\nWednesday 18th September 7-8pm – register here\nTuesday 24th September 7-8pm – register here\n\nFree hot drinks and snacks available. \nDonations (if you are able) to Buddhist Centre for use of room very welcome.
URL:https://xrnottingham.org/event/what-next-stopping-dirty-insurers/
LOCATION:Nottingham Buddhist Centre\, UK\, 9 St Mary's Place Nottingham\, Nottingham\, NG11PH\, GB
ATTACH;FMTTYPE=image/png:https://xrnottingham.org/wp-content/uploads/2024/09/NottmIOSmeeting_fb.png
END:VEVENT
BEGIN:VEVENT
DTSTART;TZID=UTC:20240924T130000
DTEND;TZID=UTC:20240924T150000
DTSTAMP:20260425T231404
CREATED:20240906T090327Z
LAST-MODIFIED:20240906T090327Z
UID:12538-1727182800-1727190000@xrnottingham.org
SUMMARY:Climate Cafe - all welcome
DESCRIPTION:All welcome.\nCome and chat\, exchange ideas\, connect with other members\, friendly relaxed space. \n1pm – 3pm\nTea\, coffee\, cake\, chat \nMeet in the Malt Cross\n16 St James’s St\, Nottingham NG1 6FG \nOrganised by the Regenerative Cultures team\, read more about this team here
URL:https://xrnottingham.org/event/climate-cafe-all-welcome-12/
LOCATION:Malt Cross\, 16 St James’s Street\, Nottingham\, NG1 6FG
CATEGORIES:Chat and Connect
ATTACH;FMTTYPE=image/png:https://xrnottingham.org/wp-content/uploads/2024/03/ClimateCafe_banner.png
ORGANIZER;CN="Extinction Rebellion Nottingham":MAILTO:info@xrnottingham.org
END:VEVENT
END:VCALENDAR