BEGIN:VCALENDAR
VERSION:2.0
PRODID:-//Extinction Rebellion Nottingham - ECPv6.15.14//NONSGML v1.0//EN
CALSCALE:GREGORIAN
METHOD:PUBLISH
X-WR-CALNAME:Extinction Rebellion Nottingham
X-ORIGINAL-URL:https://xrnottingham.org
X-WR-CALDESC:Events for Extinction Rebellion Nottingham
REFRESH-INTERVAL;VALUE=DURATION:PT1H
X-Robots-Tag:noindex
X-PUBLISHED-TTL:PT1H
BEGIN:VTIMEZONE
TZID:UTC
BEGIN:STANDARD
TZOFFSETFROM:+0000
TZOFFSETTO:+0000
TZNAME:UTC
DTSTART:20230101T000000
END:STANDARD
END:VTIMEZONE
BEGIN:VEVENT
DTSTART;TZID=UTC:20240601T110000
DTEND;TZID=UTC:20240601T180000
DTSTAMP:20260426T035511
CREATED:20240526T101756Z
LAST-MODIFIED:20240526T102032Z
UID:12321-1717239600-1717264800@xrnottingham.org
SUMMARY:Stall at Green Hustle
DESCRIPTION:XR Nottingham at the Green Hustle \nSaturday 1st June 11am to 6pm Old Market Square. \n\nInformation about Restore Nature Now march.\nAn interactive nature-themed survey.\nAnimal mask making and colouring for kids.\nCome and talk to use about what you love about Nature.\nVisit us to say hello or come for an hour or two to help on the stall.\n\nRead more about the whole event here
URL:https://xrnottingham.org/event/green-hustle-2024/
LOCATION:Old Market Square\, Clumber Street\, Market Square End\, Nottingham
ATTACH;FMTTYPE=image/jpeg:https://xrnottingham.org/wp-content/uploads/2024/05/GreenHustle.jpg
END:VEVENT
BEGIN:VEVENT
DTSTART;TZID=UTC:20240602T141500
DTEND;TZID=UTC:20240602T164500
DTSTAMP:20260426T035511
CREATED:20240426T161551Z
LAST-MODIFIED:20240503T180012Z
UID:11763-1717337700-1717346700@xrnottingham.org
SUMMARY:Meet up and prepare
DESCRIPTION:Are you coming to London for Restore Nature Now on June 22nd?\nJoin us to connect before the event and hear more about the details of the day. \nMore info about Restore Nature Now event and link to book bus tickets for June 22nd.
URL:https://xrnottingham.org/event/rnn-meetup/
LOCATION:Nottingham Buddhist Centre\, UK\, 9 St Mary's Place Nottingham\, Nottingham\, NG11PH\, GB
ATTACH;FMTTYPE=image/png:https://xrnottingham.org/wp-content/uploads/2024/04/RNN_FB_JunMeeting.png
END:VEVENT
BEGIN:VEVENT
DTSTART;TZID=UTC:20240604T130000
DTEND;TZID=UTC:20240604T150000
DTSTAMP:20260426T035511
CREATED:20240603T200853Z
LAST-MODIFIED:20240603T200853Z
UID:12356-1717506000-1717513200@xrnottingham.org
SUMMARY:Climate Cafe - all welcome
DESCRIPTION:All welcome.\nCome and chat\, exchange ideas\, connect with other members\, friendly relaxed space. \n1pm – 3pm\nTea\, coffee\, cake\, chat \nMeet upstairs in the Malt Cross\n \nOrganised by the Regenerative Cultures team\, read more about this team here
URL:https://xrnottingham.org/event/climate-cafe-all-welcome-4/
CATEGORIES:Chat and Connect
ATTACH;FMTTYPE=image/png:https://xrnottingham.org/wp-content/uploads/2024/03/ClimateCafe_banner.png
ORGANIZER;CN="Extinction Rebellion Nottingham":MAILTO:info@xrnottingham.org
END:VEVENT
BEGIN:VEVENT
DTSTART;TZID=UTC:20240609T130000
DTEND;TZID=UTC:20240609T150000
DTSTAMP:20260426T035511
CREATED:20240512T201845Z
LAST-MODIFIED:20240603T201111Z
UID:12270-1717938000-1717945200@xrnottingham.org
SUMMARY:Picnic
DESCRIPTION:Bring food to share and come learn about the Restore Nature Now March and get to know the other people coming down to London on 22 June. \n1-3pm\nIn the Arboretum – near the bandstand.\nLook for the flags! \nAll welcome especially if you are going down to London. A chance to meet each other informally\, have some good conversations in a relaxed atmosphere. Please bring picnic food and rugs to share. Plus can you bring your favourite nature poems or nature writings with you to help us appreciate what we are all calling for?
URL:https://xrnottingham.org/event/picnic/
LOCATION:Arboretum
ATTACH;FMTTYPE=image/png:https://xrnottingham.org/wp-content/uploads/2024/05/RNN_Picnic.png
END:VEVENT
BEGIN:VEVENT
DTSTART;TZID=UTC:20240611T130000
DTEND;TZID=UTC:20240611T150000
DTSTAMP:20260426T035511
CREATED:20240603T200915Z
LAST-MODIFIED:20240603T200915Z
UID:12358-1718110800-1718118000@xrnottingham.org
SUMMARY:Climate Cafe - all welcome
DESCRIPTION:All welcome.\nCome and chat\, exchange ideas\, connect with other members\, friendly relaxed space. \n1pm – 3pm\nTea\, coffee\, cake\, chat \nMeet upstairs in the Malt Cross\n \nOrganised by the Regenerative Cultures team\, read more about this team here
URL:https://xrnottingham.org/event/climate-cafe-all-welcome-5/
CATEGORIES:Chat and Connect
ATTACH;FMTTYPE=image/png:https://xrnottingham.org/wp-content/uploads/2024/03/ClimateCafe_banner.png
ORGANIZER;CN="Extinction Rebellion Nottingham":MAILTO:info@xrnottingham.org
END:VEVENT
BEGIN:VEVENT
DTSTART;TZID=UTC:20240611T190000
DTEND;TZID=UTC:20240611T223000
DTSTAMP:20260426T035511
CREATED:20240405T074129Z
LAST-MODIFIED:20240526T105608Z
UID:11735-1718132400-1718145000@xrnottingham.org
SUMMARY:No Poetry on a Dead Planet
DESCRIPTION:No Poems on a Dead Planet is an open mic night open to all to share their grief\, fear\, anger\, courage and hope about climate justice and environmental breakdown. \nDoors open at 7pm\, poetry will start at 7:30pm.\nBuy a ticket in advance or pay on the door.\nPay as you feel pricing. \nPlease get in touch if you have any accessibility requirements. Organised in collaboration with XR Nottingham
URL:https://xrnottingham.org/event/no-poetry-on-a-dead-planet/
LOCATION:Sumac Centre\, Sumac Centre\, 245 Gladstone St\, Nottingham\, NG7 6HX\, United Kingdom
ATTACH;FMTTYPE=image/jpeg:https://xrnottingham.org/wp-content/uploads/2024/04/No_Poetry_on_a_Dead_Planet_3.jpg
ORGANIZER;CN="Extinction Rebellion Nottingham":MAILTO:info@xrnottingham.org
END:VEVENT
BEGIN:VEVENT
DTSTART;TZID=UTC:20240618T130000
DTEND;TZID=UTC:20240618T150000
DTSTAMP:20260426T035511
CREATED:20240617T082711Z
LAST-MODIFIED:20240617T082711Z
UID:12378-1718715600-1718722800@xrnottingham.org
SUMMARY:Climate Cafe - all welcome
DESCRIPTION:All welcome.\nCome and chat\, exchange ideas\, connect with other members\, friendly relaxed space. \n1pm – 3pm\nTea\, coffee\, cake\, chat \nMeet in the Malt Cross\n16 St James’s St\, Nottingham NG1 6FG \nOrganised by the Regenerative Cultures team\, read more about this team here
URL:https://xrnottingham.org/event/climate-cafe-all-welcome-6/
LOCATION:Malt Cross\, 16 St James’s Street\, Nottingham\, NG1 6FG
CATEGORIES:Chat and Connect
ATTACH;FMTTYPE=image/png:https://xrnottingham.org/wp-content/uploads/2024/03/ClimateCafe_banner.png
ORGANIZER;CN="Extinction Rebellion Nottingham":MAILTO:info@xrnottingham.org
END:VEVENT
BEGIN:VEVENT
DTSTART;TZID=UTC:20240622T070000
DTEND;TZID=UTC:20240622T213000
DTSTAMP:20260426T035511
CREATED:20240426T160948Z
LAST-MODIFIED:20240621T101342Z
UID:11755-1719039600-1719091800@xrnottingham.org
SUMMARY:We're going to London for Restore Nature Now
DESCRIPTION:Join us for the biggest\, brightest most biodiverse nature themed event of the year! \nAll general information about the event and how to get involved is on the Restore Nature Now website \nNottingham will be in the ‘Air’ block. See website above for details of route\, march blocks etc.\nWe should have a big pale bluey/green flag with ‘XRNottm’ on it\, come and find us. There will be lots of flags and banners to hold\, so don’t worry about just hopping on a train and bus and joining us – no preparation required. Just bring some food and water.\n\nInfo for people with tickets for our coaches (which are sold out now)\nMeet from 7am onwards on Station Street\, at the end further away from Nottingham railway station. We’ll have flags so you can spot us. We will be boarding coaches from 7.20am and leaving promptly at 7.30am. Please don’t be late. \nThere will be two coaches:\nCoach 1 : family friendly\nCoach 2 : general \nArrive in London in good time for the midday start of the event.\nLeave London at 6pm from Embankment – the precise location will be shared in the WhatApp chat (if you’ve not joined this already you will be able to do so on the coach) \nArrive back in Nottingham as soon as we can!
URL:https://xrnottingham.org/event/restore-nature-now-london/
ATTACH;FMTTYPE=image/png:https://xrnottingham.org/wp-content/uploads/2024/04/RNN_FB_LONDON.png
END:VEVENT
BEGIN:VEVENT
DTSTART;TZID=UTC:20240625T130000
DTEND;TZID=UTC:20240625T150000
DTSTAMP:20260426T035511
CREATED:20240617T082746Z
LAST-MODIFIED:20240617T082746Z
UID:12380-1719320400-1719327600@xrnottingham.org
SUMMARY:Climate Cafe - all welcome
DESCRIPTION:All welcome.\nCome and chat\, exchange ideas\, connect with other members\, friendly relaxed space. \n1pm – 3pm\nTea\, coffee\, cake\, chat \nMeet in the Malt Cross\n16 St James’s St\, Nottingham NG1 6FG \nOrganised by the Regenerative Cultures team\, read more about this team here
URL:https://xrnottingham.org/event/climate-cafe-all-welcome-7/
LOCATION:Malt Cross\, 16 St James’s Street\, Nottingham\, NG1 6FG
CATEGORIES:Chat and Connect
ATTACH;FMTTYPE=image/png:https://xrnottingham.org/wp-content/uploads/2024/03/ClimateCafe_banner.png
ORGANIZER;CN="Extinction Rebellion Nottingham":MAILTO:info@xrnottingham.org
END:VEVENT
END:VCALENDAR