BEGIN:VCALENDAR
VERSION:2.0
PRODID:-//Extinction Rebellion Nottingham - ECPv6.15.14//NONSGML v1.0//EN
CALSCALE:GREGORIAN
METHOD:PUBLISH
X-WR-CALNAME:Extinction Rebellion Nottingham
X-ORIGINAL-URL:https://xrnottingham.org
X-WR-CALDESC:Events for Extinction Rebellion Nottingham
REFRESH-INTERVAL;VALUE=DURATION:PT1H
X-Robots-Tag:noindex
X-PUBLISHED-TTL:PT1H
BEGIN:VTIMEZONE
TZID:UTC
BEGIN:STANDARD
TZOFFSETFROM:+0000
TZOFFSETTO:+0000
TZNAME:UTC
DTSTART:20250101T000000
END:STANDARD
END:VTIMEZONE
BEGIN:VEVENT
DTSTART;TZID=UTC:20260519T130000
DTEND;TZID=UTC:20260519T150000
DTSTAMP:20260421T002215
CREATED:20260329T201017Z
LAST-MODIFIED:20260329T201017Z
UID:13091-1779195600-1779202800@xrnottingham.org
SUMMARY:Climate Cafe - all welcome
DESCRIPTION:All welcome.\nCome and chat about climate and environment\, exchange ideas\, connect\, friendly relaxed space. \n1pm – 3pm\nTea\, coffee\, cake\, chat \nFood available to buy \nMeet in the Malt Cross\n16 St James’s St\, Nottingham NG1 6FG \nOrganised by the Regenerative Cultures team\, read more about this team here
URL:https://xrnottingham.org/event/climate-cafe-all-welcome-84/
LOCATION:Malt Cross\, 16 St James’s Street\, Nottingham\, NG1 6FG
CATEGORIES:Chat and Connect
ATTACH;FMTTYPE=image/png:https://xrnottingham.org/wp-content/uploads/2024/03/ClimateCafe_banner.png
ORGANIZER;CN="Extinction Rebellion Nottingham":MAILTO:info@xrnottingham.org
END:VEVENT
BEGIN:VEVENT
DTSTART;TZID=UTC:20260525T193000
DTEND;TZID=UTC:20260525T210000
DTSTAMP:20260421T002215
CREATED:20260329T200325Z
LAST-MODIFIED:20260329T200325Z
UID:13088-1779737400-1779742800@xrnottingham.org
SUMMARY:XR Nottingham Meeting
DESCRIPTION:All welcome to help create ideas\, weave practical plans and make stuff happen! \n7.30pm – 9pm at the Broadway Cinema\nAsk at the reception desk for which room we are meeting in.
URL:https://xrnottingham.org/event/xr-nottingham-meeting-16/
LOCATION:Broadway Cinema\, Broadway Cinema
ATTACH;FMTTYPE=image/png:https://xrnottingham.org/wp-content/uploads/2025/09/XRNottinghamEvent.png
END:VEVENT
BEGIN:VEVENT
DTSTART;TZID=UTC:20260526T130000
DTEND;TZID=UTC:20260526T150000
DTSTAMP:20260421T002215
CREATED:20260329T201045Z
LAST-MODIFIED:20260329T201045Z
UID:13090-1779800400-1779807600@xrnottingham.org
SUMMARY:Climate Cafe - all welcome
DESCRIPTION:All welcome.\nCome and chat about climate and environment\, exchange ideas\, connect\, friendly relaxed space. \n1pm – 3pm\nTea\, coffee\, cake\, chat \nFood available to buy \nMeet in the Malt Cross\n16 St James’s St\, Nottingham NG1 6FG \nOrganised by the Regenerative Cultures team\, read more about this team here
URL:https://xrnottingham.org/event/climate-cafe-all-welcome-85/
LOCATION:Malt Cross\, 16 St James’s Street\, Nottingham\, NG1 6FG
CATEGORIES:Chat and Connect
ATTACH;FMTTYPE=image/png:https://xrnottingham.org/wp-content/uploads/2024/03/ClimateCafe_banner.png
ORGANIZER;CN="Extinction Rebellion Nottingham":MAILTO:info@xrnottingham.org
END:VEVENT
BEGIN:VEVENT
DTSTART;TZID=UTC:20260530T110000
DTEND;TZID=UTC:20260530T180000
DTSTAMP:20260421T002215
CREATED:20260329T201706Z
LAST-MODIFIED:20260329T201706Z
UID:13110-1780138800-1780164000@xrnottingham.org
SUMMARY:Stall at Green Hustle
DESCRIPTION:XR Nottingham at the Green Hustle \nSaturday 30st May Old Market Square 11-6pm \nNew to XR? Come and talk to us about what you love about nature or what your concerns are about the climate crisis. Let’s discuss ways to upgrade our democracy using citizens’ and community assemblies. Ask us anything about Extinction Rebellion’s involvement in nonviolent direct action since 2018. \nAlready been involved with us? Come for an hour or two to help on the stall. we’re looking for volunteers between 12-4 in particular. We’ll have our interactive (with stickers!) survey boards to help guide any conversations with the public. Info on upcoming actions and activities will be available. \nRead more about the whole event here
URL:https://xrnottingham.org/event/stall-at-green-hustle-2/
LOCATION:Old Market Square\, Clumber Street\, Market Square End\, Nottingham
ATTACH;FMTTYPE=image/jpeg:https://xrnottingham.org/wp-content/uploads/2024/05/GreenHustle.jpg
END:VEVENT
END:VCALENDAR