BEGIN:VCALENDAR
VERSION:2.0
PRODID:-//Extinction Rebellion Nottingham - ECPv6.15.14//NONSGML v1.0//EN
CALSCALE:GREGORIAN
METHOD:PUBLISH
X-WR-CALNAME:Extinction Rebellion Nottingham
X-ORIGINAL-URL:https://xrnottingham.org
X-WR-CALDESC:Events for Extinction Rebellion Nottingham
REFRESH-INTERVAL;VALUE=DURATION:PT1H
X-Robots-Tag:noindex
X-PUBLISHED-TTL:PT1H
BEGIN:VTIMEZONE
TZID:UTC
BEGIN:STANDARD
TZOFFSETFROM:+0000
TZOFFSETTO:+0000
TZNAME:UTC
DTSTART:20240101T000000
END:STANDARD
END:VTIMEZONE
BEGIN:VEVENT
DTSTART;TZID=UTC:20251005T134500
DTEND;TZID=UTC:20251005T173000
DTSTAMP:20260421T045655
CREATED:20250925T132807Z
LAST-MODIFIED:20250925T132807Z
UID:12941-1759671900-1759685400@xrnottingham.org
SUMMARY:Community Building Workshop
DESCRIPTION:For anyone in the climate/nature/sustainability activism space to learn more about community building. \nSunday Oct 5th\n2pm (prompt) – 5.30pm \nOur rebel friends from Extinction Rebellion UK’s Community Building team are bringing their new workshop to Nottingham. \nIn a world where those with power are not meeting our basic needs and in many cases working against them\, why not do it ourselves! Nothing scares them more than us not being dependent on them! \nLet’s resist the politics of division.\nWe have the tools. We have the skills. \nInstead of conforming to the systems that keep us isolated – let’s build our power together. \n\nWhat does it mean to meet our own needs as an active thriving community?\nHow you do you foster curiosity\, connection and resilience where you live?\nWhy is this important to create system change in the face of climate and ecological breakdown?\n\nWe’ll use a variety of tools and activities to explore our connections\, strengths and opportunities with each other\, our wider networks and communities. \nWorkshop maximum 25 attendees.\nRoom is on ground floor – accessible from street level\, with accessible toilet.\nHot drinks and snacks provided.\nTickets  £2 / £4.50 \nContact email hidden; JavaScript is required with any questions/clarifications.
URL:https://xrnottingham.org/event/community-building-workshop/
LOCATION:MinorOak\, Sneinton Market\, Unit 6 Gedling St\, Nottingham\, NG1 1DS
ATTACH;FMTTYPE=image/png:https://xrnottingham.org/wp-content/uploads/2025/09/CommunityBuildingWorkshop.png
ORGANIZER;CN="Extinction Rebellion Nottingham":MAILTO:info@xrnottingham.org
END:VEVENT
BEGIN:VEVENT
DTSTART;TZID=UTC:20251007T130000
DTEND;TZID=UTC:20251007T150000
DTSTAMP:20260421T045655
CREATED:20250924T123010Z
LAST-MODIFIED:20250924T123010Z
UID:12937-1759842000-1759849200@xrnottingham.org
SUMMARY:Climate Cafe - all welcome
DESCRIPTION:All welcome.\nCome and chat\, exchange ideas\, connect with other members\, friendly relaxed space. \n1pm – 3pm\nTea\, coffee\, cake\, chat\nYou can also bring your own lunch to eat (as the venue’s kitchen is closed and they have given permission for this) \nMeet in the Malt Cross\n16 St James’s St\, Nottingham NG1 6FG \nOrganised by the Regenerative Cultures team\, read more about this team here
URL:https://xrnottingham.org/event/climate-cafe-all-welcome-55/
LOCATION:Malt Cross\, 16 St James’s Street\, Nottingham\, NG1 6FG
CATEGORIES:Chat and Connect
ATTACH;FMTTYPE=image/png:https://xrnottingham.org/wp-content/uploads/2024/03/ClimateCafe_banner.png
ORGANIZER;CN="Extinction Rebellion Nottingham":MAILTO:info@xrnottingham.org
END:VEVENT
BEGIN:VEVENT
DTSTART;TZID=UTC:20251013T193000
DTEND;TZID=UTC:20251013T210000
DTSTAMP:20260421T045655
CREATED:20250913T083418Z
LAST-MODIFIED:20250913T083418Z
UID:12916-1760383800-1760389200@xrnottingham.org
SUMMARY:XR Nottingham Meeting
DESCRIPTION:All welcome to help create ideas\, weave practical plans and make stuff happen! \n7.30pm – 9pm at the Broadway Cinema\nAsk at the reception desk for which room we are meeting in.
URL:https://xrnottingham.org/event/xr-nottingham-meeting-2/
LOCATION:Broadway Cinema\, Broadway Cinema
ATTACH;FMTTYPE=image/png:https://xrnottingham.org/wp-content/uploads/2025/09/XRNottinghamEvent.png
END:VEVENT
BEGIN:VEVENT
DTSTART;TZID=UTC:20251014T130000
DTEND;TZID=UTC:20251014T150000
DTSTAMP:20260421T045655
CREATED:20250924T123043Z
LAST-MODIFIED:20250924T124757Z
UID:12939-1760446800-1760454000@xrnottingham.org
SUMMARY:Climate Cafe - all welcome
DESCRIPTION:All welcome.\nCome and chat\, exchange ideas\, connect with other members\, friendly relaxed space. \n1pm – 3pm\nTea\, coffee\, cake\, chat\nYou can also bring your own lunch to eat (as the venue’s kitchen is closed and they have given permission for this) \nMeet in the Malt Cross\n16 St James’s St\, Nottingham NG1 6FG \nOrganised by the Regenerative Cultures team\, read more about this team here
URL:https://xrnottingham.org/event/climate-cafe-all-welcome-56/
LOCATION:Malt Cross\, 16 St James’s Street\, Nottingham\, NG1 6FG
CATEGORIES:Chat and Connect
ATTACH;FMTTYPE=image/png:https://xrnottingham.org/wp-content/uploads/2024/03/ClimateCafe_banner.png
ORGANIZER;CN="Extinction Rebellion Nottingham":MAILTO:info@xrnottingham.org
END:VEVENT
BEGIN:VEVENT
DTSTART;TZID=UTC:20251021T130000
DTEND;TZID=UTC:20251021T150000
DTSTAMP:20260421T045655
CREATED:20251006T191057Z
LAST-MODIFIED:20251006T191057Z
UID:12948-1761051600-1761058800@xrnottingham.org
SUMMARY:Climate Cafe - all welcome
DESCRIPTION:All welcome.\nCome and chat\, exchange ideas\, connect with other members\, friendly relaxed space. \n1pm – 3pm\nTea\, coffee\, cake\, chat\nYou can also bring your own lunch to eat (as the venue’s kitchen is closed and they have given permission for this) \nMeet in the Malt Cross\n16 St James’s St\, Nottingham NG1 6FG \nOrganised by the Regenerative Cultures team\, read more about this team here
URL:https://xrnottingham.org/event/climate-cafe-all-welcome-57/
LOCATION:Malt Cross\, 16 St James’s Street\, Nottingham\, NG1 6FG
CATEGORIES:Chat and Connect
ATTACH;FMTTYPE=image/png:https://xrnottingham.org/wp-content/uploads/2024/03/ClimateCafe_banner.png
ORGANIZER;CN="Extinction Rebellion Nottingham":MAILTO:info@xrnottingham.org
END:VEVENT
BEGIN:VEVENT
DTSTART;TZID=UTC:20251027T193000
DTEND;TZID=UTC:20251027T210000
DTSTAMP:20260421T045655
CREATED:20250917T214435Z
LAST-MODIFIED:20250917T214435Z
UID:12928-1761593400-1761598800@xrnottingham.org
SUMMARY:XR Nottingham Meeting
DESCRIPTION:All welcome to help create ideas\, weave practical plans and make stuff happen! \n7.30pm – 9pm at the Broadway Cinema\nAsk at the reception desk for which room we are meeting in.
URL:https://xrnottingham.org/event/xr-nottingham-meeting-3/
LOCATION:Broadway Cinema\, Broadway Cinema
ATTACH;FMTTYPE=image/png:https://xrnottingham.org/wp-content/uploads/2025/09/XRNottinghamEvent.png
END:VEVENT
BEGIN:VEVENT
DTSTART;TZID=UTC:20251028T130000
DTEND;TZID=UTC:20251028T150000
DTSTAMP:20260421T045655
CREATED:20251006T191220Z
LAST-MODIFIED:20251006T191220Z
UID:12950-1761656400-1761663600@xrnottingham.org
SUMMARY:Climate Cafe - all welcome
DESCRIPTION:All welcome.\nCome and chat\, exchange ideas\, connect with other members\, friendly relaxed space. \n1pm – 3pm\nTea\, coffee\, cake\, chat\nYou can also bring your own lunch to eat (as the venue’s kitchen is closed and they have given permission for this) \nMeet in the Malt Cross\n16 St James’s St\, Nottingham NG1 6FG \nOrganised by the Regenerative Cultures team\, read more about this team here
URL:https://xrnottingham.org/event/climate-cafe-all-welcome-58/
LOCATION:Malt Cross\, 16 St James’s Street\, Nottingham\, NG1 6FG
CATEGORIES:Chat and Connect
ATTACH;FMTTYPE=image/png:https://xrnottingham.org/wp-content/uploads/2024/03/ClimateCafe_banner.png
ORGANIZER;CN="Extinction Rebellion Nottingham":MAILTO:info@xrnottingham.org
END:VEVENT
BEGIN:VEVENT
DTSTART;TZID=UTC:20251104T130000
DTEND;TZID=UTC:20251104T150000
DTSTAMP:20260421T045655
CREATED:20251009T085440Z
LAST-MODIFIED:20251009T085440Z
UID:12956-1762261200-1762268400@xrnottingham.org
SUMMARY:Climate Cafe - all welcome
DESCRIPTION:All welcome.\nCome and chat\, exchange ideas\, connect with other members\, friendly relaxed space. \n1pm – 3pm\nTea\, coffee\, cake\, chat\nYou can also bring your own lunch to eat (as the venue’s kitchen is closed and they have given permission for this) \nMeet in the Malt Cross\n16 St James’s St\, Nottingham NG1 6FG \nOrganised by the Regenerative Cultures team\, read more about this team here
URL:https://xrnottingham.org/event/climate-cafe-all-welcome-59/
LOCATION:Malt Cross\, 16 St James’s Street\, Nottingham\, NG1 6FG
CATEGORIES:Chat and Connect
ATTACH;FMTTYPE=image/png:https://xrnottingham.org/wp-content/uploads/2024/03/ClimateCafe_banner.png
ORGANIZER;CN="Extinction Rebellion Nottingham":MAILTO:info@xrnottingham.org
END:VEVENT
BEGIN:VEVENT
DTSTART;TZID=UTC:20251110T193000
DTEND;TZID=UTC:20251110T210000
DTSTAMP:20260421T045655
CREATED:20250917T214510Z
LAST-MODIFIED:20250917T214510Z
UID:12930-1762803000-1762808400@xrnottingham.org
SUMMARY:XR Nottingham Meeting
DESCRIPTION:All welcome to help create ideas\, weave practical plans and make stuff happen! \n7.30pm – 9pm at the Broadway Cinema\nAsk at the reception desk for which room we are meeting in.
URL:https://xrnottingham.org/event/xr-nottingham-meeting-4/
LOCATION:Broadway Cinema\, Broadway Cinema
ATTACH;FMTTYPE=image/png:https://xrnottingham.org/wp-content/uploads/2025/09/XRNottinghamEvent.png
END:VEVENT
BEGIN:VEVENT
DTSTART;TZID=UTC:20251111T130000
DTEND;TZID=UTC:20251111T150000
DTSTAMP:20260421T045655
CREATED:20251009T085510Z
LAST-MODIFIED:20251110T214634Z
UID:12958-1762866000-1762873200@xrnottingham.org
SUMMARY:Climate Cafe - all welcome
DESCRIPTION:All welcome.\nCome and chat about climate and environment\, exchange ideas\, connect\, friendly relaxed space. \n1pm – 3pm\nTea\, coffee\, cake\, chat \nFood available to buy \nMeet in the Malt Cross\n16 St James’s St\, Nottingham NG1 6FG \nOrganised by the Regenerative Cultures team\, read more about this team here
URL:https://xrnottingham.org/event/climate-cafe-all-welcome-60/
LOCATION:Malt Cross\, 16 St James’s Street\, Nottingham\, NG1 6FG
CATEGORIES:Chat and Connect
ATTACH;FMTTYPE=image/png:https://xrnottingham.org/wp-content/uploads/2024/03/ClimateCafe_banner.png
ORGANIZER;CN="Extinction Rebellion Nottingham":MAILTO:info@xrnottingham.org
END:VEVENT
BEGIN:VEVENT
DTSTART;TZID=UTC:20251115T110000
DTEND;TZID=UTC:20251115T140000
DTSTAMP:20260421T045655
CREATED:20251111T085052Z
LAST-MODIFIED:20251111T085209Z
UID:12976-1763204400-1763215200@xrnottingham.org
SUMMARY:COP30 - Outreach and Action
DESCRIPTION:Saturday 15th November 11-2pm\nOutside Barclays in the city centre \nWhile the world leaders gather to talk about the Climate Crisis in Brazil\, we will be gathering outside Barclays to remind the people of Nottingham that the climate crisis is still here. \nCome join in with outreach with our simple and effective survey boards (no previous experience needed). \nOr hold an umbrella as part of our pop-up actions! \nThis is an event alongside Greenpeace and Friends of the Earth.
URL:https://xrnottingham.org/event/cop30-outreach-and-action/
LOCATION:Barclays Bank\, 2 High Street\, Nottingham. NG1 2EN\, Nottingham
ATTACH;FMTTYPE=image/jpeg:https://xrnottingham.org/wp-content/uploads/2025/11/CopOut1.jpg
END:VEVENT
BEGIN:VEVENT
DTSTART;TZID=UTC:20251118T130000
DTEND;TZID=UTC:20251118T150000
DTSTAMP:20260421T045655
CREATED:20251009T085535Z
LAST-MODIFIED:20251110T214524Z
UID:12960-1763470800-1763478000@xrnottingham.org
SUMMARY:Climate Cafe - all welcome
DESCRIPTION:All welcome.\nCome and chat about climate and environment\, exchange ideas\, connect\, friendly relaxed space. \n1pm – 3pm\nTea\, coffee\, cake\, chat \nFood available to buy \nMeet in the Malt Cross\n16 St James’s St\, Nottingham NG1 6FG \nOrganised by the Regenerative Cultures team\, read more about this team here
URL:https://xrnottingham.org/event/climate-cafe-all-welcome-61/
LOCATION:Malt Cross\, 16 St James’s Street\, Nottingham\, NG1 6FG
CATEGORIES:Chat and Connect
ATTACH;FMTTYPE=image/png:https://xrnottingham.org/wp-content/uploads/2024/03/ClimateCafe_banner.png
ORGANIZER;CN="Extinction Rebellion Nottingham":MAILTO:info@xrnottingham.org
END:VEVENT
BEGIN:VEVENT
DTSTART;TZID=UTC:20251124T193000
DTEND;TZID=UTC:20251124T210000
DTSTAMP:20260421T045655
CREATED:20250917T214530Z
LAST-MODIFIED:20250917T214530Z
UID:12932-1764012600-1764018000@xrnottingham.org
SUMMARY:XR Nottingham Meeting
DESCRIPTION:All welcome to help create ideas\, weave practical plans and make stuff happen! \n7.30pm – 9pm at the Broadway Cinema\nAsk at the reception desk for which room we are meeting in.
URL:https://xrnottingham.org/event/xr-nottingham-meeting-5/
LOCATION:Broadway Cinema\, Broadway Cinema
ATTACH;FMTTYPE=image/png:https://xrnottingham.org/wp-content/uploads/2025/09/XRNottinghamEvent.png
END:VEVENT
BEGIN:VEVENT
DTSTART;TZID=UTC:20251202T130000
DTEND;TZID=UTC:20251202T150000
DTSTAMP:20260421T045655
CREATED:20251126T222545Z
LAST-MODIFIED:20251126T222545Z
UID:12993-1764680400-1764687600@xrnottingham.org
SUMMARY:Climate Cafe - all welcome
DESCRIPTION:All welcome.\nCome and chat about climate and environment\, exchange ideas\, connect\, friendly relaxed space. \n1pm – 3pm\nTea\, coffee\, cake\, chat \nFood available to buy \nMeet in the Malt Cross\n16 St James’s St\, Nottingham NG1 6FG \nOrganised by the Regenerative Cultures team\, read more about this team here
URL:https://xrnottingham.org/event/climate-cafe-all-welcome-62/
LOCATION:Malt Cross\, 16 St James’s Street\, Nottingham\, NG1 6FG
CATEGORIES:Chat and Connect
ATTACH;FMTTYPE=image/png:https://xrnottingham.org/wp-content/uploads/2024/03/ClimateCafe_banner.png
ORGANIZER;CN="Extinction Rebellion Nottingham":MAILTO:info@xrnottingham.org
END:VEVENT
BEGIN:VEVENT
DTSTART;TZID=UTC:20251208T193000
DTEND;TZID=UTC:20251208T210000
DTSTAMP:20260421T045655
CREATED:20250917T214557Z
LAST-MODIFIED:20250917T214557Z
UID:12934-1765222200-1765227600@xrnottingham.org
SUMMARY:XR Nottingham Meeting
DESCRIPTION:All welcome to help create ideas\, weave practical plans and make stuff happen! \n7.30pm – 9pm at the Broadway Cinema\nAsk at the reception desk for which room we are meeting in.
URL:https://xrnottingham.org/event/xr-nottingham-meeting-6/
LOCATION:Broadway Cinema\, Broadway Cinema
ATTACH;FMTTYPE=image/png:https://xrnottingham.org/wp-content/uploads/2025/09/XRNottinghamEvent.png
END:VEVENT
BEGIN:VEVENT
DTSTART;TZID=UTC:20251209T130000
DTEND;TZID=UTC:20251209T150000
DTSTAMP:20260421T045655
CREATED:20251126T222643Z
LAST-MODIFIED:20251126T222643Z
UID:12995-1765285200-1765292400@xrnottingham.org
SUMMARY:Climate Cafe - all welcome
DESCRIPTION:All welcome.\nCome and chat about climate and environment\, exchange ideas\, connect\, friendly relaxed space. \n1pm – 3pm\nTea\, coffee\, cake\, chat \nFood available to buy \nMeet in the Malt Cross\n16 St James’s St\, Nottingham NG1 6FG \nOrganised by the Regenerative Cultures team\, read more about this team here
URL:https://xrnottingham.org/event/climate-cafe-all-welcome-63/
LOCATION:Malt Cross\, 16 St James’s Street\, Nottingham\, NG1 6FG
CATEGORIES:Chat and Connect
ATTACH;FMTTYPE=image/png:https://xrnottingham.org/wp-content/uploads/2024/03/ClimateCafe_banner.png
ORGANIZER;CN="Extinction Rebellion Nottingham":MAILTO:info@xrnottingham.org
END:VEVENT
BEGIN:VEVENT
DTSTART;TZID=UTC:20251209T190000
DTEND;TZID=UTC:20251209T203000
DTSTAMP:20260421T045655
CREATED:20251126T080849Z
LAST-MODIFIED:20251126T080849Z
UID:12984-1765306800-1765312200@xrnottingham.org
SUMMARY:Love\, Anger & Betrayal\, with Jonathon Porritt
DESCRIPTION:Talk and book launch organised by Five Leaves Bookshop. \nTickets £2\nhttps://fiveleavesbookshop.co.uk/events/love-anger-betrayal-with-jonathon-porritt/ \nJonathan Porritt has been campaigning for environmental and social justice\, while simultaneously advising governments\, businesses and NGOs\, for over fifty years. \nHis new book Love\, Anger & Betrayal: Just Stop Oil’s Young Climate Campaigners is described by Caroline Lucas\, former leader of the Green Party\, as ‘deeply uncomfortable but overwhelmingly necessary’; its principal purpose to give a voice to campaigners who\, through peaceful direct action\, are being silenced\, vilified\, and stuck in prison.
URL:https://xrnottingham.org/event/love-anger-betrayal-with-jonathon-porritt/
LOCATION:Friends Meeting House\, 25 Clarendon Street\, Nottingham\, NG1 5JD\, United Kingdom
ATTACH;FMTTYPE=image/jpeg:https://xrnottingham.org/wp-content/uploads/2025/11/FiveLeavesEvent.jpg
END:VEVENT
BEGIN:VEVENT
DTSTART;TZID=UTC:20251216T130000
DTEND;TZID=UTC:20251216T150000
DTSTAMP:20260421T045655
CREATED:20251126T222727Z
LAST-MODIFIED:20251126T222727Z
UID:12997-1765890000-1765897200@xrnottingham.org
SUMMARY:Climate Cafe - all welcome
DESCRIPTION:All welcome.\nCome and chat about climate and environment\, exchange ideas\, connect\, friendly relaxed space. \n1pm – 3pm\nTea\, coffee\, cake\, chat \nFood available to buy \nMeet in the Malt Cross\n16 St James’s St\, Nottingham NG1 6FG \nOrganised by the Regenerative Cultures team\, read more about this team here
URL:https://xrnottingham.org/event/climate-cafe-all-welcome-64/
LOCATION:Malt Cross\, 16 St James’s Street\, Nottingham\, NG1 6FG
CATEGORIES:Chat and Connect
ATTACH;FMTTYPE=image/png:https://xrnottingham.org/wp-content/uploads/2024/03/ClimateCafe_banner.png
ORGANIZER;CN="Extinction Rebellion Nottingham":MAILTO:info@xrnottingham.org
END:VEVENT
BEGIN:VEVENT
DTSTART;TZID=UTC:20251228T110000
DTEND;TZID=UTC:20251228T120000
DTSTAMP:20260421T045655
CREATED:20250913T083730Z
LAST-MODIFIED:20251209T220215Z
UID:12920-1766919600-1766923200@xrnottingham.org
SUMMARY:Burning Ballroom - Street Action
DESCRIPTION:Come and help with a performance action called the Burning Ballroom! \nDecember 28th 11am – 12pm\nMeet outside Barclays.\nThere are four roles which require people to stand still.\n10-20 ‘dancers’ – no experience or skill necessary!! \nThe most important thing is for everyone to wear plain black clothing. \nAdditional people can help talk to the public and hand out flyers. \nSpare a couple of hours and join us as we take this impactful\, enjoyable street action. \nThere’s still a climate emergency and it’s time to get that message back out there. \nThis is an easy way to get involved in a bit of ‘creative disruption’. It’s really effective at getting people’s attention and opening up conversations. Here’s a video from when we took this action to London (filmed on Horse Guards Parade and Trafalgar Square).
URL:https://xrnottingham.org/event/burning-ballroom-street-action-2/
LOCATION:Barclays Bank\, 2 High Street\, Nottingham. NG1 2EN\, Nottingham
ATTACH;FMTTYPE=image/jpeg:https://xrnottingham.org/wp-content/uploads/2025/06/PHOTO-2025-06-07-18-58-14.jpg
END:VEVENT
BEGIN:VEVENT
DTSTART;TZID=UTC:20260106T130000
DTEND;TZID=UTC:20260106T150000
DTSTAMP:20260421T045655
CREATED:20251126T222814Z
LAST-MODIFIED:20251126T222814Z
UID:12999-1767704400-1767711600@xrnottingham.org
SUMMARY:Climate Cafe - all welcome
DESCRIPTION:All welcome.\nCome and chat about climate and environment\, exchange ideas\, connect\, friendly relaxed space. \n1pm – 3pm\nTea\, coffee\, cake\, chat \nFood available to buy \nMeet in the Malt Cross\n16 St James’s St\, Nottingham NG1 6FG \nOrganised by the Regenerative Cultures team\, read more about this team here
URL:https://xrnottingham.org/event/climate-cafe-all-welcome-65/
LOCATION:Malt Cross\, 16 St James’s Street\, Nottingham\, NG1 6FG
CATEGORIES:Chat and Connect
ATTACH;FMTTYPE=image/png:https://xrnottingham.org/wp-content/uploads/2024/03/ClimateCafe_banner.png
ORGANIZER;CN="Extinction Rebellion Nottingham":MAILTO:info@xrnottingham.org
END:VEVENT
BEGIN:VEVENT
DTSTART;TZID=UTC:20260110T140000
DTEND;TZID=UTC:20260110T160000
DTSTAMP:20260421T045655
CREATED:20251220T165723Z
LAST-MODIFIED:20251220T165908Z
UID:13011-1768053600-1768060800@xrnottingham.org
SUMMARY:XR Nottingham Gathering
DESCRIPTION:Sat 10th January \n2-4pm a the Buddhist Centre\n9 St Mary’s Place NG11PH \nOpen the door to the new year by joining us to make plans for what XR Nottingham might want to do over the next 3 plus months. \nHot drinks and cake will be available. \nJoin us!
URL:https://xrnottingham.org/event/xr-nottingham-gathering/
LOCATION:Nottingham Buddhist Centre\, UK\, 9 St Mary's Place Nottingham\, Nottingham\, NG11PH\, GB
ATTACH;FMTTYPE=image/png:https://xrnottingham.org/wp-content/uploads/2025/12/gathering.png
END:VEVENT
BEGIN:VEVENT
DTSTART;TZID=UTC:20260112T193000
DTEND;TZID=UTC:20260112T210000
DTSTAMP:20260421T045655
CREATED:20251126T222329Z
LAST-MODIFIED:20251126T222329Z
UID:12989-1768246200-1768251600@xrnottingham.org
SUMMARY:XR Nottingham Meeting
DESCRIPTION:All welcome to help create ideas\, weave practical plans and make stuff happen! \n7.30pm – 9pm at the Broadway Cinema\nAsk at the reception desk for which room we are meeting in.
URL:https://xrnottingham.org/event/xr-nottingham-meeting-7/
LOCATION:Broadway Cinema\, Broadway Cinema
ATTACH;FMTTYPE=image/png:https://xrnottingham.org/wp-content/uploads/2025/09/XRNottinghamEvent.png
END:VEVENT
BEGIN:VEVENT
DTSTART;TZID=UTC:20260113T130000
DTEND;TZID=UTC:20260113T150000
DTSTAMP:20260421T045655
CREATED:20251220T141119Z
LAST-MODIFIED:20251220T141119Z
UID:13007-1768309200-1768316400@xrnottingham.org
SUMMARY:Climate Cafe - all welcome
DESCRIPTION:All welcome.\nCome and chat about climate and environment\, exchange ideas\, connect\, friendly relaxed space. \n1pm – 3pm\nTea\, coffee\, cake\, chat \nFood available to buy \nMeet in the Malt Cross\n16 St James’s St\, Nottingham NG1 6FG \nOrganised by the Regenerative Cultures team\, read more about this team here
URL:https://xrnottingham.org/event/climate-cafe-all-welcome-66/
LOCATION:Malt Cross\, 16 St James’s Street\, Nottingham\, NG1 6FG
CATEGORIES:Chat and Connect
ATTACH;FMTTYPE=image/png:https://xrnottingham.org/wp-content/uploads/2024/03/ClimateCafe_banner.png
ORGANIZER;CN="Extinction Rebellion Nottingham":MAILTO:info@xrnottingham.org
END:VEVENT
BEGIN:VEVENT
DTSTART;TZID=UTC:20260120T130000
DTEND;TZID=UTC:20260120T150000
DTSTAMP:20260421T045655
CREATED:20251220T141228Z
LAST-MODIFIED:20251220T141228Z
UID:13009-1768914000-1768921200@xrnottingham.org
SUMMARY:Climate Cafe - all welcome
DESCRIPTION:All welcome.\nCome and chat about climate and environment\, exchange ideas\, connect\, friendly relaxed space. \n1pm – 3pm\nTea\, coffee\, cake\, chat \nFood available to buy \nMeet in the Malt Cross\n16 St James’s St\, Nottingham NG1 6FG \nOrganised by the Regenerative Cultures team\, read more about this team here
URL:https://xrnottingham.org/event/climate-cafe-all-welcome-67/
LOCATION:Malt Cross\, 16 St James’s Street\, Nottingham\, NG1 6FG
CATEGORIES:Chat and Connect
ATTACH;FMTTYPE=image/png:https://xrnottingham.org/wp-content/uploads/2024/03/ClimateCafe_banner.png
ORGANIZER;CN="Extinction Rebellion Nottingham":MAILTO:info@xrnottingham.org
END:VEVENT
BEGIN:VEVENT
DTSTART;TZID=UTC:20260126T193000
DTEND;TZID=UTC:20260126T210000
DTSTAMP:20260421T045655
CREATED:20251126T222410Z
LAST-MODIFIED:20251126T222410Z
UID:12991-1769455800-1769461200@xrnottingham.org
SUMMARY:XR Nottingham Meeting
DESCRIPTION:All welcome to help create ideas\, weave practical plans and make stuff happen! \n7.30pm – 9pm at the Broadway Cinema\nAsk at the reception desk for which room we are meeting in.
URL:https://xrnottingham.org/event/xr-nottingham-meeting-8/
LOCATION:Broadway Cinema\, Broadway Cinema
ATTACH;FMTTYPE=image/png:https://xrnottingham.org/wp-content/uploads/2025/09/XRNottinghamEvent.png
END:VEVENT
BEGIN:VEVENT
DTSTART;TZID=UTC:20260127T130000
DTEND;TZID=UTC:20260127T150000
DTSTAMP:20260421T045655
CREATED:20260117T154950Z
LAST-MODIFIED:20260117T154950Z
UID:13025-1769518800-1769526000@xrnottingham.org
SUMMARY:Climate Cafe - all welcome
DESCRIPTION:All welcome.\nCome and chat about climate and environment\, exchange ideas\, connect\, friendly relaxed space. \n1pm – 3pm\nTea\, coffee\, cake\, chat \nFood available to buy \nMeet in the Malt Cross\n16 St James’s St\, Nottingham NG1 6FG \nOrganised by the Regenerative Cultures team\, read more about this team here
URL:https://xrnottingham.org/event/climate-cafe-all-welcome-68/
LOCATION:Malt Cross\, 16 St James’s Street\, Nottingham\, NG1 6FG
CATEGORIES:Chat and Connect
ATTACH;FMTTYPE=image/png:https://xrnottingham.org/wp-content/uploads/2024/03/ClimateCafe_banner.png
ORGANIZER;CN="Extinction Rebellion Nottingham":MAILTO:info@xrnottingham.org
END:VEVENT
BEGIN:VEVENT
DTSTART;TZID=UTC:20260203T130000
DTEND;TZID=UTC:20260203T150000
DTSTAMP:20260421T045655
CREATED:20260117T155135Z
LAST-MODIFIED:20260117T155135Z
UID:13029-1770123600-1770130800@xrnottingham.org
SUMMARY:Climate Cafe - all welcome
DESCRIPTION:All welcome.\nCome and chat about climate and environment\, exchange ideas\, connect\, friendly relaxed space. \n1pm – 3pm\nTea\, coffee\, cake\, chat \nFood available to buy \nMeet in the Malt Cross\n16 St James’s St\, Nottingham NG1 6FG \nOrganised by the Regenerative Cultures team\, read more about this team here
URL:https://xrnottingham.org/event/climate-cafe-all-welcome-69/
LOCATION:Malt Cross\, 16 St James’s Street\, Nottingham\, NG1 6FG
CATEGORIES:Chat and Connect
ATTACH;FMTTYPE=image/png:https://xrnottingham.org/wp-content/uploads/2024/03/ClimateCafe_banner.png
ORGANIZER;CN="Extinction Rebellion Nottingham":MAILTO:info@xrnottingham.org
END:VEVENT
BEGIN:VEVENT
DTSTART;TZID=UTC:20260206T183000
DTEND;TZID=UTC:20260206T200000
DTSTAMP:20260421T045655
CREATED:20260124T221050Z
LAST-MODIFIED:20260124T221144Z
UID:13031-1770402600-1770408000@xrnottingham.org
SUMMARY:XR Nottingham + Light Night
DESCRIPTION:Light night is an annual event full of installations\, puppetry\, music and art distributed across Nottingham city centre to celebrate light in the endless long winter nights. \nFriday 6 February 2026 \n6:30pm – 8pm at the intersection between Broad Street and Goosegate \nXR Nottingham will be setting up our survey boards to engage the public in conversations about the ongoing climate and ecological crisis. \nCome help with outreach no prior experience needed! \nThis will be a beautiful event which will bring us closer to the public and give us a chance to have those mobilising conversations.
URL:https://xrnottingham.org/event/xr-nottingham-light-night-3/
LOCATION:Outside Ice Nice: 9-13 Goose Gate\, Nottingham NG1 1FE
ATTACH;FMTTYPE=image/png:https://xrnottingham.org/wp-content/uploads/2026/01/Light-night-scaled.png
END:VEVENT
BEGIN:VEVENT
DTSTART;TZID=UTC:20260209T193000
DTEND;TZID=UTC:20260209T210000
DTSTAMP:20260421T045655
CREATED:20260117T155043Z
LAST-MODIFIED:20260117T155043Z
UID:13027-1770665400-1770670800@xrnottingham.org
SUMMARY:XR Nottingham Meeting
DESCRIPTION:All welcome to help create ideas\, weave practical plans and make stuff happen! \n7.30pm – 9pm at the Broadway Cinema\nAsk at the reception desk for which room we are meeting in.
URL:https://xrnottingham.org/event/xr-nottingham-meeting-9/
LOCATION:Broadway Cinema\, Broadway Cinema
ATTACH;FMTTYPE=image/png:https://xrnottingham.org/wp-content/uploads/2025/09/XRNottinghamEvent.png
END:VEVENT
BEGIN:VEVENT
DTSTART;TZID=UTC:20260210T130000
DTEND;TZID=UTC:20260210T150000
DTSTAMP:20260421T045655
CREATED:20260207T212705Z
LAST-MODIFIED:20260207T212705Z
UID:13036-1770728400-1770735600@xrnottingham.org
SUMMARY:Climate Cafe - all welcome
DESCRIPTION:All welcome.\nCome and chat about climate and environment\, exchange ideas\, connect\, friendly relaxed space. \n1pm – 3pm\nTea\, coffee\, cake\, chat \nFood available to buy \nMeet in the Malt Cross\n16 St James’s St\, Nottingham NG1 6FG \nOrganised by the Regenerative Cultures team\, read more about this team here
URL:https://xrnottingham.org/event/climate-cafe-all-welcome-70/
LOCATION:Malt Cross\, 16 St James’s Street\, Nottingham\, NG1 6FG
CATEGORIES:Chat and Connect
ATTACH;FMTTYPE=image/png:https://xrnottingham.org/wp-content/uploads/2024/03/ClimateCafe_banner.png
ORGANIZER;CN="Extinction Rebellion Nottingham":MAILTO:info@xrnottingham.org
END:VEVENT
END:VCALENDAR