BEGIN:VCALENDAR
VERSION:2.0
PRODID:-//Extinction Rebellion Nottingham - ECPv6.15.14//NONSGML v1.0//EN
CALSCALE:GREGORIAN
METHOD:PUBLISH
X-WR-CALNAME:Extinction Rebellion Nottingham
X-ORIGINAL-URL:https://xrnottingham.org
X-WR-CALDESC:Events for Extinction Rebellion Nottingham
REFRESH-INTERVAL;VALUE=DURATION:PT1H
X-Robots-Tag:noindex
X-PUBLISHED-TTL:PT1H
BEGIN:VTIMEZONE
TZID:UTC
BEGIN:STANDARD
TZOFFSETFROM:+0000
TZOFFSETTO:+0000
TZNAME:UTC
DTSTART:20240101T000000
END:STANDARD
END:VTIMEZONE
BEGIN:VEVENT
DTSTART;TZID=UTC:20251124T193000
DTEND;TZID=UTC:20251124T210000
DTSTAMP:20260421T034611
CREATED:20250917T214530Z
LAST-MODIFIED:20250917T214530Z
UID:12932-1764012600-1764018000@xrnottingham.org
SUMMARY:XR Nottingham Meeting
DESCRIPTION:All welcome to help create ideas\, weave practical plans and make stuff happen! \n7.30pm – 9pm at the Broadway Cinema\nAsk at the reception desk for which room we are meeting in.
URL:https://xrnottingham.org/event/xr-nottingham-meeting-5/
LOCATION:Broadway Cinema\, Broadway Cinema
ATTACH;FMTTYPE=image/png:https://xrnottingham.org/wp-content/uploads/2025/09/XRNottinghamEvent.png
END:VEVENT
BEGIN:VEVENT
DTSTART;TZID=UTC:20251118T130000
DTEND;TZID=UTC:20251118T150000
DTSTAMP:20260421T034611
CREATED:20251009T085535Z
LAST-MODIFIED:20251110T214524Z
UID:12960-1763470800-1763478000@xrnottingham.org
SUMMARY:Climate Cafe - all welcome
DESCRIPTION:All welcome.\nCome and chat about climate and environment\, exchange ideas\, connect\, friendly relaxed space. \n1pm – 3pm\nTea\, coffee\, cake\, chat \nFood available to buy \nMeet in the Malt Cross\n16 St James’s St\, Nottingham NG1 6FG \nOrganised by the Regenerative Cultures team\, read more about this team here
URL:https://xrnottingham.org/event/climate-cafe-all-welcome-61/
LOCATION:Malt Cross\, 16 St James’s Street\, Nottingham\, NG1 6FG
CATEGORIES:Chat and Connect
ATTACH;FMTTYPE=image/png:https://xrnottingham.org/wp-content/uploads/2024/03/ClimateCafe_banner.png
ORGANIZER;CN="Extinction Rebellion Nottingham":MAILTO:info@xrnottingham.org
END:VEVENT
BEGIN:VEVENT
DTSTART;TZID=UTC:20251115T110000
DTEND;TZID=UTC:20251115T140000
DTSTAMP:20260421T034611
CREATED:20251111T085052Z
LAST-MODIFIED:20251111T085209Z
UID:12976-1763204400-1763215200@xrnottingham.org
SUMMARY:COP30 - Outreach and Action
DESCRIPTION:Saturday 15th November 11-2pm\nOutside Barclays in the city centre \nWhile the world leaders gather to talk about the Climate Crisis in Brazil\, we will be gathering outside Barclays to remind the people of Nottingham that the climate crisis is still here. \nCome join in with outreach with our simple and effective survey boards (no previous experience needed). \nOr hold an umbrella as part of our pop-up actions! \nThis is an event alongside Greenpeace and Friends of the Earth.
URL:https://xrnottingham.org/event/cop30-outreach-and-action/
LOCATION:Barclays Bank\, 2 High Street\, Nottingham. NG1 2EN\, Nottingham
ATTACH;FMTTYPE=image/jpeg:https://xrnottingham.org/wp-content/uploads/2025/11/CopOut1.jpg
END:VEVENT
BEGIN:VEVENT
DTSTART;TZID=UTC:20251111T130000
DTEND;TZID=UTC:20251111T150000
DTSTAMP:20260421T034611
CREATED:20251009T085510Z
LAST-MODIFIED:20251110T214634Z
UID:12958-1762866000-1762873200@xrnottingham.org
SUMMARY:Climate Cafe - all welcome
DESCRIPTION:All welcome.\nCome and chat about climate and environment\, exchange ideas\, connect\, friendly relaxed space. \n1pm – 3pm\nTea\, coffee\, cake\, chat \nFood available to buy \nMeet in the Malt Cross\n16 St James’s St\, Nottingham NG1 6FG \nOrganised by the Regenerative Cultures team\, read more about this team here
URL:https://xrnottingham.org/event/climate-cafe-all-welcome-60/
LOCATION:Malt Cross\, 16 St James’s Street\, Nottingham\, NG1 6FG
CATEGORIES:Chat and Connect
ATTACH;FMTTYPE=image/png:https://xrnottingham.org/wp-content/uploads/2024/03/ClimateCafe_banner.png
ORGANIZER;CN="Extinction Rebellion Nottingham":MAILTO:info@xrnottingham.org
END:VEVENT
BEGIN:VEVENT
DTSTART;TZID=UTC:20251110T193000
DTEND;TZID=UTC:20251110T210000
DTSTAMP:20260421T034611
CREATED:20250917T214510Z
LAST-MODIFIED:20250917T214510Z
UID:12930-1762803000-1762808400@xrnottingham.org
SUMMARY:XR Nottingham Meeting
DESCRIPTION:All welcome to help create ideas\, weave practical plans and make stuff happen! \n7.30pm – 9pm at the Broadway Cinema\nAsk at the reception desk for which room we are meeting in.
URL:https://xrnottingham.org/event/xr-nottingham-meeting-4/
LOCATION:Broadway Cinema\, Broadway Cinema
ATTACH;FMTTYPE=image/png:https://xrnottingham.org/wp-content/uploads/2025/09/XRNottinghamEvent.png
END:VEVENT
BEGIN:VEVENT
DTSTART;TZID=UTC:20251104T130000
DTEND;TZID=UTC:20251104T150000
DTSTAMP:20260421T034611
CREATED:20251009T085440Z
LAST-MODIFIED:20251009T085440Z
UID:12956-1762261200-1762268400@xrnottingham.org
SUMMARY:Climate Cafe - all welcome
DESCRIPTION:All welcome.\nCome and chat\, exchange ideas\, connect with other members\, friendly relaxed space. \n1pm – 3pm\nTea\, coffee\, cake\, chat\nYou can also bring your own lunch to eat (as the venue’s kitchen is closed and they have given permission for this) \nMeet in the Malt Cross\n16 St James’s St\, Nottingham NG1 6FG \nOrganised by the Regenerative Cultures team\, read more about this team here
URL:https://xrnottingham.org/event/climate-cafe-all-welcome-59/
LOCATION:Malt Cross\, 16 St James’s Street\, Nottingham\, NG1 6FG
CATEGORIES:Chat and Connect
ATTACH;FMTTYPE=image/png:https://xrnottingham.org/wp-content/uploads/2024/03/ClimateCafe_banner.png
ORGANIZER;CN="Extinction Rebellion Nottingham":MAILTO:info@xrnottingham.org
END:VEVENT
BEGIN:VEVENT
DTSTART;TZID=UTC:20251028T130000
DTEND;TZID=UTC:20251028T150000
DTSTAMP:20260421T034611
CREATED:20251006T191220Z
LAST-MODIFIED:20251006T191220Z
UID:12950-1761656400-1761663600@xrnottingham.org
SUMMARY:Climate Cafe - all welcome
DESCRIPTION:All welcome.\nCome and chat\, exchange ideas\, connect with other members\, friendly relaxed space. \n1pm – 3pm\nTea\, coffee\, cake\, chat\nYou can also bring your own lunch to eat (as the venue’s kitchen is closed and they have given permission for this) \nMeet in the Malt Cross\n16 St James’s St\, Nottingham NG1 6FG \nOrganised by the Regenerative Cultures team\, read more about this team here
URL:https://xrnottingham.org/event/climate-cafe-all-welcome-58/
LOCATION:Malt Cross\, 16 St James’s Street\, Nottingham\, NG1 6FG
CATEGORIES:Chat and Connect
ATTACH;FMTTYPE=image/png:https://xrnottingham.org/wp-content/uploads/2024/03/ClimateCafe_banner.png
ORGANIZER;CN="Extinction Rebellion Nottingham":MAILTO:info@xrnottingham.org
END:VEVENT
BEGIN:VEVENT
DTSTART;TZID=UTC:20251027T193000
DTEND;TZID=UTC:20251027T210000
DTSTAMP:20260421T034611
CREATED:20250917T214435Z
LAST-MODIFIED:20250917T214435Z
UID:12928-1761593400-1761598800@xrnottingham.org
SUMMARY:XR Nottingham Meeting
DESCRIPTION:All welcome to help create ideas\, weave practical plans and make stuff happen! \n7.30pm – 9pm at the Broadway Cinema\nAsk at the reception desk for which room we are meeting in.
URL:https://xrnottingham.org/event/xr-nottingham-meeting-3/
LOCATION:Broadway Cinema\, Broadway Cinema
ATTACH;FMTTYPE=image/png:https://xrnottingham.org/wp-content/uploads/2025/09/XRNottinghamEvent.png
END:VEVENT
BEGIN:VEVENT
DTSTART;TZID=UTC:20251021T130000
DTEND;TZID=UTC:20251021T150000
DTSTAMP:20260421T034611
CREATED:20251006T191057Z
LAST-MODIFIED:20251006T191057Z
UID:12948-1761051600-1761058800@xrnottingham.org
SUMMARY:Climate Cafe - all welcome
DESCRIPTION:All welcome.\nCome and chat\, exchange ideas\, connect with other members\, friendly relaxed space. \n1pm – 3pm\nTea\, coffee\, cake\, chat\nYou can also bring your own lunch to eat (as the venue’s kitchen is closed and they have given permission for this) \nMeet in the Malt Cross\n16 St James’s St\, Nottingham NG1 6FG \nOrganised by the Regenerative Cultures team\, read more about this team here
URL:https://xrnottingham.org/event/climate-cafe-all-welcome-57/
LOCATION:Malt Cross\, 16 St James’s Street\, Nottingham\, NG1 6FG
CATEGORIES:Chat and Connect
ATTACH;FMTTYPE=image/png:https://xrnottingham.org/wp-content/uploads/2024/03/ClimateCafe_banner.png
ORGANIZER;CN="Extinction Rebellion Nottingham":MAILTO:info@xrnottingham.org
END:VEVENT
BEGIN:VEVENT
DTSTART;TZID=UTC:20251014T130000
DTEND;TZID=UTC:20251014T150000
DTSTAMP:20260421T034611
CREATED:20250924T123043Z
LAST-MODIFIED:20250924T124757Z
UID:12939-1760446800-1760454000@xrnottingham.org
SUMMARY:Climate Cafe - all welcome
DESCRIPTION:All welcome.\nCome and chat\, exchange ideas\, connect with other members\, friendly relaxed space. \n1pm – 3pm\nTea\, coffee\, cake\, chat\nYou can also bring your own lunch to eat (as the venue’s kitchen is closed and they have given permission for this) \nMeet in the Malt Cross\n16 St James’s St\, Nottingham NG1 6FG \nOrganised by the Regenerative Cultures team\, read more about this team here
URL:https://xrnottingham.org/event/climate-cafe-all-welcome-56/
LOCATION:Malt Cross\, 16 St James’s Street\, Nottingham\, NG1 6FG
CATEGORIES:Chat and Connect
ATTACH;FMTTYPE=image/png:https://xrnottingham.org/wp-content/uploads/2024/03/ClimateCafe_banner.png
ORGANIZER;CN="Extinction Rebellion Nottingham":MAILTO:info@xrnottingham.org
END:VEVENT
BEGIN:VEVENT
DTSTART;TZID=UTC:20251013T193000
DTEND;TZID=UTC:20251013T210000
DTSTAMP:20260421T034611
CREATED:20250913T083418Z
LAST-MODIFIED:20250913T083418Z
UID:12916-1760383800-1760389200@xrnottingham.org
SUMMARY:XR Nottingham Meeting
DESCRIPTION:All welcome to help create ideas\, weave practical plans and make stuff happen! \n7.30pm – 9pm at the Broadway Cinema\nAsk at the reception desk for which room we are meeting in.
URL:https://xrnottingham.org/event/xr-nottingham-meeting-2/
LOCATION:Broadway Cinema\, Broadway Cinema
ATTACH;FMTTYPE=image/png:https://xrnottingham.org/wp-content/uploads/2025/09/XRNottinghamEvent.png
END:VEVENT
BEGIN:VEVENT
DTSTART;TZID=UTC:20251007T130000
DTEND;TZID=UTC:20251007T150000
DTSTAMP:20260421T034611
CREATED:20250924T123010Z
LAST-MODIFIED:20250924T123010Z
UID:12937-1759842000-1759849200@xrnottingham.org
SUMMARY:Climate Cafe - all welcome
DESCRIPTION:All welcome.\nCome and chat\, exchange ideas\, connect with other members\, friendly relaxed space. \n1pm – 3pm\nTea\, coffee\, cake\, chat\nYou can also bring your own lunch to eat (as the venue’s kitchen is closed and they have given permission for this) \nMeet in the Malt Cross\n16 St James’s St\, Nottingham NG1 6FG \nOrganised by the Regenerative Cultures team\, read more about this team here
URL:https://xrnottingham.org/event/climate-cafe-all-welcome-55/
LOCATION:Malt Cross\, 16 St James’s Street\, Nottingham\, NG1 6FG
CATEGORIES:Chat and Connect
ATTACH;FMTTYPE=image/png:https://xrnottingham.org/wp-content/uploads/2024/03/ClimateCafe_banner.png
ORGANIZER;CN="Extinction Rebellion Nottingham":MAILTO:info@xrnottingham.org
END:VEVENT
BEGIN:VEVENT
DTSTART;TZID=UTC:20251005T134500
DTEND;TZID=UTC:20251005T173000
DTSTAMP:20260421T034611
CREATED:20250925T132807Z
LAST-MODIFIED:20250925T132807Z
UID:12941-1759671900-1759685400@xrnottingham.org
SUMMARY:Community Building Workshop
DESCRIPTION:For anyone in the climate/nature/sustainability activism space to learn more about community building. \nSunday Oct 5th\n2pm (prompt) – 5.30pm \nOur rebel friends from Extinction Rebellion UK’s Community Building team are bringing their new workshop to Nottingham. \nIn a world where those with power are not meeting our basic needs and in many cases working against them\, why not do it ourselves! Nothing scares them more than us not being dependent on them! \nLet’s resist the politics of division.\nWe have the tools. We have the skills. \nInstead of conforming to the systems that keep us isolated – let’s build our power together. \n\nWhat does it mean to meet our own needs as an active thriving community?\nHow you do you foster curiosity\, connection and resilience where you live?\nWhy is this important to create system change in the face of climate and ecological breakdown?\n\nWe’ll use a variety of tools and activities to explore our connections\, strengths and opportunities with each other\, our wider networks and communities. \nWorkshop maximum 25 attendees.\nRoom is on ground floor – accessible from street level\, with accessible toilet.\nHot drinks and snacks provided.\nTickets  £2 / £4.50 \nContact email hidden; JavaScript is required with any questions/clarifications.
URL:https://xrnottingham.org/event/community-building-workshop/
LOCATION:MinorOak\, Sneinton Market\, Unit 6 Gedling St\, Nottingham\, NG1 1DS
ATTACH;FMTTYPE=image/png:https://xrnottingham.org/wp-content/uploads/2025/09/CommunityBuildingWorkshop.png
ORGANIZER;CN="Extinction Rebellion Nottingham":MAILTO:info@xrnottingham.org
END:VEVENT
BEGIN:VEVENT
DTSTART;TZID=UTC:20250930T130000
DTEND;TZID=UTC:20250930T150000
DTSTAMP:20260421T034612
CREATED:20250913T083538Z
LAST-MODIFIED:20250913T083538Z
UID:12918-1759237200-1759244400@xrnottingham.org
SUMMARY:Climate Cafe - all welcome
DESCRIPTION:All welcome.\nCome and chat\, exchange ideas\, connect with other members\, friendly relaxed space. \n1pm – 3pm\nTea\, coffee\, cake\, chat\nYou can also bring your own lunch to eat (as the venue’s kitchen is closed and they have given permission for this) \nMeet in the Malt Cross\n16 St James’s St\, Nottingham NG1 6FG \nOrganised by the Regenerative Cultures team\, read more about this team here
URL:https://xrnottingham.org/event/climate-cafe-all-welcome-54/
LOCATION:Malt Cross\, 16 St James’s Street\, Nottingham\, NG1 6FG
CATEGORIES:Chat and Connect
ATTACH;FMTTYPE=image/png:https://xrnottingham.org/wp-content/uploads/2024/03/ClimateCafe_banner.png
ORGANIZER;CN="Extinction Rebellion Nottingham":MAILTO:info@xrnottingham.org
END:VEVENT
BEGIN:VEVENT
DTSTART;TZID=UTC:20250929T193000
DTEND;TZID=UTC:20250929T210000
DTSTAMP:20260421T034612
CREATED:20250913T083328Z
LAST-MODIFIED:20250913T083328Z
UID:12914-1759174200-1759179600@xrnottingham.org
SUMMARY:XR Nottingham Meeting
DESCRIPTION:All welcome to help create ideas\, weave practical plans and make stuff happen! \n7.30pm – 9pm at the Broadway Cinema\nAsk at the reception desk for which room we are meeting in.
URL:https://xrnottingham.org/event/xr-nottingham-meeting/
LOCATION:Broadway Cinema\, Broadway Cinema
ATTACH;FMTTYPE=image/png:https://xrnottingham.org/wp-content/uploads/2025/09/XRNottinghamEvent.png
END:VEVENT
BEGIN:VEVENT
DTSTART;TZID=UTC:20250923T130000
DTEND;TZID=UTC:20250923T150000
DTSTAMP:20260421T034612
CREATED:20250902T095839Z
LAST-MODIFIED:20250902T095921Z
UID:12899-1758632400-1758639600@xrnottingham.org
SUMMARY:Climate Cafe - all welcome
DESCRIPTION:All welcome.\nCome and chat\, exchange ideas\, connect with other members\, friendly relaxed space. \n1pm – 3pm\nTea\, coffee\, cake\, chat\nYou can also bring your own lunch to eat (as the venue’s kitchen is closed and they have given permission for this) \nMeet in the Malt Cross\n16 St James’s St\, Nottingham NG1 6FG \nOrganised by the Regenerative Cultures team\, read more about this team here
URL:https://xrnottingham.org/event/climate-cafe-all-welcome-51/
LOCATION:Malt Cross\, 16 St James’s Street\, Nottingham\, NG1 6FG
CATEGORIES:Chat and Connect
ATTACH;FMTTYPE=image/png:https://xrnottingham.org/wp-content/uploads/2024/03/ClimateCafe_banner.png
ORGANIZER;CN="Extinction Rebellion Nottingham":MAILTO:info@xrnottingham.org
END:VEVENT
BEGIN:VEVENT
DTSTART;TZID=UTC:20250920T080000
DTEND;TZID=UTC:20250920T213000
DTSTAMP:20260421T034612
CREATED:20250913T084604Z
LAST-MODIFIED:20250913T084640Z
UID:12924-1758355200-1758403800@xrnottingham.org
SUMMARY:Make Them Pay - coach to London
DESCRIPTION:MAKE THEM PAY ~ London \n⏰ Saturday 20 September\, 12.00 (noon) – 16.00\n⏰ Coach from Nottingham leaving 8am \n📍 Assemble at BBC\, Portland Place to march to a rally in Parliament Square \n💰 Make Them Pay is an alliance supported by XRUK\, that represents workers\, citizens and communities across Britain. Its three key demands are:\n•⁠ ⁠Make polluters pay\n•⁠ ⁠Tax the super-rich\n•⁠ ⁠Protect workers\, not billionaires \n🦺 The march will be Police-liaised\, legal and family-friendly – and needs stewards and other crew. \nℹ️ More Info\nhttps://makethempay.org.uk/ \n🚌 Coach Tickets from Nottingham\nhttps://xrb.link/t2V1U5sL4f \n🙋‍♀️Sign up to be a Steward\nhttps://xrb.link/H78buy2mL0 \n🗣️Contact email hidden; JavaScript is required for a link to our WhatsApp chat for this action.
URL:https://xrnottingham.org/event/make-them-pay-coach-to-london/
ATTACH;FMTTYPE=image/jpeg:https://xrnottingham.org/wp-content/uploads/2025/09/WhatsApp-Image-2025-08-20-at-16.19.08.jpeg
END:VEVENT
BEGIN:VEVENT
DTSTART;TZID=UTC:20250916T130000
DTEND;TZID=UTC:20250916T150000
DTSTAMP:20260421T034612
CREATED:20250902T095859Z
LAST-MODIFIED:20250902T095859Z
UID:12901-1758027600-1758034800@xrnottingham.org
SUMMARY:Climate Cafe - all welcome
DESCRIPTION:All welcome.\nCome and chat\, exchange ideas\, connect with other members\, friendly relaxed space. \n1pm – 3pm\nTea\, coffee\, cake\, chat\nYou can also bring your own lunch to eat (as the venue’s kitchen is closed and they have given permission for this) \nMeet in the Malt Cross\n16 St James’s St\, Nottingham NG1 6FG \nOrganised by the Regenerative Cultures team\, read more about this team here
URL:https://xrnottingham.org/event/climate-cafe-all-welcome-52/
LOCATION:Malt Cross\, 16 St James’s Street\, Nottingham\, NG1 6FG
CATEGORIES:Chat and Connect
ATTACH;FMTTYPE=image/png:https://xrnottingham.org/wp-content/uploads/2024/03/ClimateCafe_banner.png
ORGANIZER;CN="Extinction Rebellion Nottingham":MAILTO:info@xrnottingham.org
END:VEVENT
BEGIN:VEVENT
DTSTART;TZID=UTC:20250915T193000
DTEND;TZID=UTC:20250915T210000
DTSTAMP:20260421T034612
CREATED:20250909T104110Z
LAST-MODIFIED:20250909T104750Z
UID:12905-1757964600-1757970000@xrnottingham.org
SUMMARY:XR Nottingham Meeting
DESCRIPTION:All welcome to help create ideas\, weave practical plans and make stuff happen! \n7.30pm – 9pm at the Broadway Cinema\nAsk at the reception desk for which room we are meeting in.
URL:https://xrnottingham.org/event/meeting/
LOCATION:Broadway Cinema\, Broadway Cinema
ATTACH;FMTTYPE=image/png:https://xrnottingham.org/wp-content/uploads/2025/09/XRNottinghamEvent.png
END:VEVENT
BEGIN:VEVENT
DTSTART;TZID=UTC:20250914T120000
DTEND;TZID=UTC:20250914T180000
DTSTAMP:20260421T034612
CREATED:20250506T201858Z
LAST-MODIFIED:20250913T214227Z
UID:12766-1757851200-1757872800@xrnottingham.org
SUMMARY:XR will not be at the Nottingham Green Festival
DESCRIPTION:Sunday September 14th at the Arboretum – unfortunately due to some shocking last minute instructions from the insurance company for the event\, not ‘political’ (whatever that means!) stall can take part this year. \nThis means XR Nottingham will not have an official presence at the festival for the first year in a very long time. \nWe have every sympathy with the organisers of this event and they have been put in a ridiculous situation which is no fault of their own. We encourage you to still attend the event for the sake of all the other participants – particularly the performers and food stalls.
URL:https://xrnottingham.org/event/xr-at-the-nottingham-green-festival/
LOCATION:Arboretum
ATTACH;FMTTYPE=image/png:https://xrnottingham.org/wp-content/uploads/2023/08/XRGreenFest_2023.png
END:VEVENT
BEGIN:VEVENT
DTSTART;TZID=UTC:20250909T130000
DTEND;TZID=UTC:20250909T150000
DTSTAMP:20260421T034612
CREATED:20250902T100005Z
LAST-MODIFIED:20250902T100005Z
UID:12903-1757422800-1757430000@xrnottingham.org
SUMMARY:Climate Cafe - all welcome
DESCRIPTION:All welcome.\nCome and chat\, exchange ideas\, connect with other members\, friendly relaxed space. \n1pm – 3pm\nTea\, coffee\, cake\, chat\nYou can also bring your own lunch to eat (as the venue’s kitchen is closed and they have given permission for this) \nMeet in the Malt Cross\n16 St James’s St\, Nottingham NG1 6FG \nOrganised by the Regenerative Cultures team\, read more about this team here
URL:https://xrnottingham.org/event/climate-cafe-all-welcome-53/
LOCATION:Malt Cross\, 16 St James’s Street\, Nottingham\, NG1 6FG
CATEGORIES:Chat and Connect
ATTACH;FMTTYPE=image/png:https://xrnottingham.org/wp-content/uploads/2024/03/ClimateCafe_banner.png
ORGANIZER;CN="Extinction Rebellion Nottingham":MAILTO:info@xrnottingham.org
END:VEVENT
BEGIN:VEVENT
DTSTART;TZID=UTC:20250902T130000
DTEND;TZID=UTC:20250902T150000
DTSTAMP:20260421T034612
CREATED:20250810T160510Z
LAST-MODIFIED:20250810T160510Z
UID:12893-1756818000-1756825200@xrnottingham.org
SUMMARY:Climate Cafe - all welcome
DESCRIPTION:All welcome.\nCome and chat\, exchange ideas\, connect with other members\, friendly relaxed space. \n1pm – 3pm\nTea\, coffee\, cake\, chat\nYou can also bring your own lunch to eat (as the venue’s kitchen is closed and they have given permission for this) \nMeet in the Malt Cross\n16 St James’s St\, Nottingham NG1 6FG \nOrganised by the Regenerative Cultures team\, read more about this team here
URL:https://xrnottingham.org/event/climate-cafe-all-welcome-50/
LOCATION:Malt Cross\, 16 St James’s Street\, Nottingham\, NG1 6FG
CATEGORIES:Chat and Connect
ATTACH;FMTTYPE=image/png:https://xrnottingham.org/wp-content/uploads/2024/03/ClimateCafe_banner.png
ORGANIZER;CN="Extinction Rebellion Nottingham":MAILTO:info@xrnottingham.org
END:VEVENT
BEGIN:VEVENT
DTSTART;TZID=UTC:20250826T130000
DTEND;TZID=UTC:20250826T150000
DTSTAMP:20260421T034612
CREATED:20250810T160445Z
LAST-MODIFIED:20250810T160445Z
UID:12891-1756213200-1756220400@xrnottingham.org
SUMMARY:Climate Cafe - all welcome
DESCRIPTION:All welcome.\nCome and chat\, exchange ideas\, connect with other members\, friendly relaxed space. \n1pm – 3pm\nTea\, coffee\, cake\, chat\nYou can also bring your own lunch to eat (as the venue’s kitchen is closed and they have given permission for this) \nMeet in the Malt Cross\n16 St James’s St\, Nottingham NG1 6FG \nOrganised by the Regenerative Cultures team\, read more about this team here
URL:https://xrnottingham.org/event/climate-cafe-all-welcome-49/
LOCATION:Malt Cross\, 16 St James’s Street\, Nottingham\, NG1 6FG
CATEGORIES:Chat and Connect
ATTACH;FMTTYPE=image/png:https://xrnottingham.org/wp-content/uploads/2024/03/ClimateCafe_banner.png
ORGANIZER;CN="Extinction Rebellion Nottingham":MAILTO:info@xrnottingham.org
END:VEVENT
BEGIN:VEVENT
DTSTART;TZID=UTC:20250819T130000
DTEND;TZID=UTC:20250819T150000
DTSTAMP:20260421T034612
CREATED:20250810T160425Z
LAST-MODIFIED:20250810T160425Z
UID:12889-1755608400-1755615600@xrnottingham.org
SUMMARY:Climate Cafe - all welcome
DESCRIPTION:All welcome.\nCome and chat\, exchange ideas\, connect with other members\, friendly relaxed space. \n1pm – 3pm\nTea\, coffee\, cake\, chat\nYou can also bring your own lunch to eat (as the venue’s kitchen is closed and they have given permission for this) \nMeet in the Malt Cross\n16 St James’s St\, Nottingham NG1 6FG \nOrganised by the Regenerative Cultures team\, read more about this team here
URL:https://xrnottingham.org/event/climate-cafe-all-welcome-48/
LOCATION:Malt Cross\, 16 St James’s Street\, Nottingham\, NG1 6FG
CATEGORIES:Chat and Connect
ATTACH;FMTTYPE=image/png:https://xrnottingham.org/wp-content/uploads/2024/03/ClimateCafe_banner.png
ORGANIZER;CN="Extinction Rebellion Nottingham":MAILTO:info@xrnottingham.org
END:VEVENT
BEGIN:VEVENT
DTSTART;TZID=UTC:20250812T130000
DTEND;TZID=UTC:20250812T150000
DTSTAMP:20260421T034612
CREATED:20250810T155836Z
LAST-MODIFIED:20250810T155836Z
UID:12887-1755003600-1755010800@xrnottingham.org
SUMMARY:Climate Cafe - all welcome
DESCRIPTION:All welcome.\nCome and chat\, exchange ideas\, connect with other members\, friendly relaxed space. \n1pm – 3pm\nTea\, coffee\, cake\, chat\nYou can also bring your own lunch to eat (as the venue’s kitchen is closed and they have given permission for this) \nMeet in the Malt Cross\n16 St James’s St\, Nottingham NG1 6FG \nOrganised by the Regenerative Cultures team\, read more about this team here
URL:https://xrnottingham.org/event/climate-cafe-all-welcome-47/
LOCATION:Malt Cross\, 16 St James’s Street\, Nottingham\, NG1 6FG
CATEGORIES:Chat and Connect
ATTACH;FMTTYPE=image/png:https://xrnottingham.org/wp-content/uploads/2024/03/ClimateCafe_banner.png
ORGANIZER;CN="Extinction Rebellion Nottingham":MAILTO:info@xrnottingham.org
END:VEVENT
BEGIN:VEVENT
DTSTART;TZID=UTC:20250722T130000
DTEND;TZID=UTC:20250722T150000
DTSTAMP:20260421T034612
CREATED:20250714T075535Z
LAST-MODIFIED:20250714T075535Z
UID:12884-1753189200-1753196400@xrnottingham.org
SUMMARY:Climate Cafe - all welcome
DESCRIPTION:All welcome.\nCome and chat\, exchange ideas\, connect with other members\, friendly relaxed space. \n1pm – 3pm\nTea\, coffee\, cake\, chat\nYou can also bring your own lunch to eat (as the venue’s kitchen is closed and they have given permission for this) \nMeet in the Malt Cross\n16 St James’s St\, Nottingham NG1 6FG \nOrganised by the Regenerative Cultures team\, read more about this team here
URL:https://xrnottingham.org/event/climate-cafe-all-welcome-46/
LOCATION:Malt Cross\, 16 St James’s Street\, Nottingham\, NG1 6FG
CATEGORIES:Chat and Connect
ATTACH;FMTTYPE=image/png:https://xrnottingham.org/wp-content/uploads/2024/03/ClimateCafe_banner.png
ORGANIZER;CN="Extinction Rebellion Nottingham":MAILTO:info@xrnottingham.org
END:VEVENT
BEGIN:VEVENT
DTSTART;TZID=UTC:20250715T130000
DTEND;TZID=UTC:20250715T150000
DTSTAMP:20260421T034612
CREATED:20250714T075515Z
LAST-MODIFIED:20250714T075515Z
UID:12882-1752584400-1752591600@xrnottingham.org
SUMMARY:Climate Cafe - all welcome
DESCRIPTION:All welcome.\nCome and chat\, exchange ideas\, connect with other members\, friendly relaxed space. \n1pm – 3pm\nTea\, coffee\, cake\, chat\nYou can also bring your own lunch to eat (as the venue’s kitchen is closed and they have given permission for this) \nMeet in the Malt Cross\n16 St James’s St\, Nottingham NG1 6FG \nOrganised by the Regenerative Cultures team\, read more about this team here
URL:https://xrnottingham.org/event/climate-cafe-all-welcome-45/
LOCATION:Malt Cross\, 16 St James’s Street\, Nottingham\, NG1 6FG
CATEGORIES:Chat and Connect
ATTACH;FMTTYPE=image/png:https://xrnottingham.org/wp-content/uploads/2024/03/ClimateCafe_banner.png
ORGANIZER;CN="Extinction Rebellion Nottingham":MAILTO:info@xrnottingham.org
END:VEVENT
BEGIN:VEVENT
DTSTART;TZID=UTC:20250708T130000
DTEND;TZID=UTC:20250708T150000
DTSTAMP:20260421T034612
CREATED:20250628T080801Z
LAST-MODIFIED:20250628T080801Z
UID:12875-1751979600-1751986800@xrnottingham.org
SUMMARY:Climate Cafe - all welcome
DESCRIPTION:All welcome.\nCome and chat\, exchange ideas\, connect with other members\, friendly relaxed space. \n1pm – 3pm\nTea\, coffee\, cake\, chat\nYou can also bring your own lunch to eat (as the venue’s kitchen is closed and they have given permission for this) \nMeet in the Malt Cross\n16 St James’s St\, Nottingham NG1 6FG \nOrganised by the Regenerative Cultures team\, read more about this team here
URL:https://xrnottingham.org/event/climate-cafe-all-welcome-44/
LOCATION:Malt Cross\, 16 St James’s Street\, Nottingham\, NG1 6FG
CATEGORIES:Chat and Connect
ATTACH;FMTTYPE=image/png:https://xrnottingham.org/wp-content/uploads/2024/03/ClimateCafe_banner.png
ORGANIZER;CN="Extinction Rebellion Nottingham":MAILTO:info@xrnottingham.org
END:VEVENT
BEGIN:VEVENT
DTSTART;TZID=UTC:20250703T183000
DTEND;TZID=UTC:20250703T210000
DTSTAMP:20260421T034612
CREATED:20250416T225250Z
LAST-MODIFIED:20250602T121850Z
UID:12748-1751567400-1751576400@xrnottingham.org
SUMMARY:XR Nottingham Social and Welcome
DESCRIPTION:Join us for our new monthly pub socials – on the first Thursday of each month. \nThursday 3rd July \nFrom 6.30pm @ The Malt Cross \nAn opportunity for regular rebels to connect and for new folks to meet us\, hear about recent actions and find out how to get more involved. \nTell your mates and come for a chat over a pint (or a juice)! \nAccessible room\, relaxed atmosphere. Look out for the flags.
URL:https://xrnottingham.org/event/xr-nottingham-social-8/
LOCATION:Malt Cross\, 16 St James’s Street\, Nottingham\, NG1 6FG
ATTACH;FMTTYPE=image/png:https://xrnottingham.org/wp-content/uploads/2025/01/XR-Notts-Social.png
ORGANIZER;CN="Extinction Rebellion Nottingham":MAILTO:info@xrnottingham.org
END:VEVENT
BEGIN:VEVENT
DTSTART;TZID=UTC:20250701T130000
DTEND;TZID=UTC:20250701T150000
DTSTAMP:20260421T034612
CREATED:20250628T080734Z
LAST-MODIFIED:20250628T080734Z
UID:12873-1751374800-1751382000@xrnottingham.org
SUMMARY:Climate Cafe - all welcome
DESCRIPTION:All welcome.\nCome and chat\, exchange ideas\, connect with other members\, friendly relaxed space. \n1pm – 3pm\nTea\, coffee\, cake\, chat\nYou can also bring your own lunch to eat (as the venue’s kitchen is closed and they have given permission for this) \nMeet in the Malt Cross\n16 St James’s St\, Nottingham NG1 6FG \nOrganised by the Regenerative Cultures team\, read more about this team here
URL:https://xrnottingham.org/event/climate-cafe-all-welcome-43/
LOCATION:Malt Cross\, 16 St James’s Street\, Nottingham\, NG1 6FG
CATEGORIES:Chat and Connect
ATTACH;FMTTYPE=image/png:https://xrnottingham.org/wp-content/uploads/2024/03/ClimateCafe_banner.png
ORGANIZER;CN="Extinction Rebellion Nottingham":MAILTO:info@xrnottingham.org
END:VEVENT
END:VCALENDAR