BEGIN:VCALENDAR
VERSION:2.0
PRODID:-//Extinction Rebellion Nottingham - ECPv6.15.14//NONSGML v1.0//EN
CALSCALE:GREGORIAN
METHOD:PUBLISH
X-WR-CALNAME:Extinction Rebellion Nottingham
X-ORIGINAL-URL:https://xrnottingham.org
X-WR-CALDESC:Events for Extinction Rebellion Nottingham
REFRESH-INTERVAL;VALUE=DURATION:PT1H
X-Robots-Tag:noindex
X-PUBLISHED-TTL:PT1H
BEGIN:VTIMEZONE
TZID:UTC
BEGIN:STANDARD
TZOFFSETFROM:+0000
TZOFFSETTO:+0000
TZNAME:UTC
DTSTART:20230101T000000
END:STANDARD
END:VTIMEZONE
BEGIN:VEVENT
DTSTART;TZID=UTC:20240305T130000
DTEND;TZID=UTC:20240305T153000
DTSTAMP:20260425T114709
CREATED:20240224T113411Z
LAST-MODIFIED:20240226T083251Z
UID:11637-1709643600-1709652600@xrnottingham.org
SUMMARY:Climate Cafe - all welcome
DESCRIPTION:All welcome.\nCome and chat\, exchange ideas\, connect with other members\, friendly relaxed space. \n1pm – 2.30pm\nThis week we’ll chat about the ‘Insure our Future’ actions.\nHear how they went or share your story if you took part. \n2.30-3.30pm\nInterested in the Regenerative Cultures team? We’re the ones who plan this Climate Cafe event and other social and group building and training events. \nCome and find out what we do.\nRead more about this team here \nTea\, coffee\, cake\, chat\nMeet downstairs in Caffè Nero next to Brian Clough statute\, King St. NG1 2AS
URL:https://xrnottingham.org/event/climate-cafe-all-welcome/
CATEGORIES:Chat and Connect
ATTACH;FMTTYPE=image/png:https://xrnottingham.org/wp-content/uploads/2024/02/ClimateCafe2024.png
ORGANIZER;CN="Extinction Rebellion Nottingham":MAILTO:info@xrnottingham.org
END:VEVENT
BEGIN:VEVENT
DTSTART;TZID=UTC:20240311T190000
DTEND;TZID=UTC:20240311T220000
DTSTAMP:20260425T114709
CREATED:20240224T113820Z
LAST-MODIFIED:20240308T123812Z
UID:11639-1710183600-1710194400@xrnottingham.org
SUMMARY:XR Nottingham Chumalong
DESCRIPTION:A ‘Chumalong’ in the pub – relaxed\, friendly space to chat\, and build connections with fellow rebels over a drink or two. \nCome along to chat about your experiences of the Insure our Future week\, whether you went to London\, got involved in Leicester\, Birmingham or supported from home. \nFind us in the Lincolnshire Poacher\n161-163 Mansfield Road\, NG1 3FR \nEveryone very welcome!
URL:https://xrnottingham.org/event/xr-nottingham-chumalong-8/
LOCATION:The Lincolnshire Poacher\, 161-163 Mansfield Road\, Nottingham\, NG1 3FR
CATEGORIES:Chat and Connect
ATTACH;FMTTYPE=image/jpeg:https://xrnottingham.org/wp-content/uploads/2023/10/Pub_chumalong-1.jpg
ORGANIZER;CN="Extinction Rebellion Nottingham":MAILTO:info@xrnottingham.org
END:VEVENT
END:VCALENDAR