BEGIN:VCALENDAR
VERSION:2.0
PRODID:-//Extinction Rebellion Nottingham - ECPv6.15.14//NONSGML v1.0//EN
CALSCALE:GREGORIAN
METHOD:PUBLISH
X-ORIGINAL-URL:https://xrnottingham.org
X-WR-CALDESC:Events for Extinction Rebellion Nottingham
REFRESH-INTERVAL;VALUE=DURATION:PT1H
X-Robots-Tag:noindex
X-PUBLISHED-TTL:PT1H
BEGIN:VTIMEZONE
TZID:UTC
BEGIN:STANDARD
TZOFFSETFROM:+0000
TZOFFSETTO:+0000
TZNAME:UTC
DTSTART:20230101T000000
END:STANDARD
END:VTIMEZONE
BEGIN:VEVENT
DTSTART;TZID=UTC:20240206T130000
DTEND;TZID=UTC:20240206T150000
DTSTAMP:20260425T131131
CREATED:20240205T091628Z
LAST-MODIFIED:20240205T091628Z
UID:11588-1707224400-1707231600@xrnottingham.org
SUMMARY:Mingle at the Malt Cross - every Tuesday
DESCRIPTION:All welcome.\nCome and chat\, exchange ideas\, connect with other members\, friendly relaxed space. \nTuesdays 1-3pm\nTea and Cake \nUpstairs at The Malt Cross. Lift available\n16 St James’s Street NG1 6FG
URL:https://xrnottingham.org/event/mingle-at-the-malt-cross-every-tuesday-5/
LOCATION:Malt Cross\, 16 St James’s Street\, Nottingham\, NG1 6FG
CATEGORIES:Chat and Connect
ATTACH;FMTTYPE=image/png:https://xrnottingham.org/wp-content/uploads/2024/01/ClimateCafe2024.png
ORGANIZER;CN="Extinction Rebellion Nottingham":MAILTO:info@xrnottingham.org
END:VEVENT
BEGIN:VEVENT
DTSTART;TZID=UTC:20240213T130000
DTEND;TZID=UTC:20240213T150000
DTSTAMP:20260425T131131
CREATED:20240209T214723Z
LAST-MODIFIED:20240209T214723Z
UID:11605-1707829200-1707836400@xrnottingham.org
SUMMARY:Climate Cafe - all welcome
DESCRIPTION:All welcome.\nCome and chat\, exchange ideas\, connect with other members\, friendly relaxed space. \nTuesdays 1-3pm\nTea\, coffee\, cake\, chat \nCafe Nero on King Street\, next to Brian Clough statue\n8 King St\, Nottingham NG1 2AS
URL:https://xrnottingham.org/event/climate-cafe-13feb2024/
LOCATION:cafe nero\, 8 king street\, nottingham\, 8 King Street\, Nottingham\, NG1 2AS
CATEGORIES:Chat and Connect
ATTACH;FMTTYPE=image/png:https://xrnottingham.org/wp-content/uploads/2024/02/ClimateCafe2024.png
ORGANIZER;CN="Extinction Rebellion Nottingham":MAILTO:info@xrnottingham.org
END:VEVENT
BEGIN:VEVENT
DTSTART;TZID=UTC:20240219T190000
DTEND;TZID=UTC:20240219T210000
DTSTAMP:20260425T131131
CREATED:20240207T203304Z
LAST-MODIFIED:20240207T203304Z
UID:11600-1708369200-1708376400@xrnottingham.org
SUMMARY:Next XR Nottingham book club meeting
DESCRIPTION:XR Nottingham Book Club will be reading and discussing Hope in the Dark by Rebecca Solnit. \nNext meeting: Monday 19 February\n7 – 9pm @ Mammoth Cinema \nThis meeting will be to discuss our thoughts after reading the book. \nA bit more about the book: With Hope in the Dark\, Rebecca Solnit makes a radical case for hope as a commitment to act in a world whose future remains uncertain and unknowable. Drawing on her decades of activism and a wide reading of environmental\, cultural\, and political history\, Solnit argues that radicals have a long\, neglected history of transformative victories\, that the positive consequences of our acts are not always immediately seen\, directly knowable\, or even measurable\, and that pessimism and despair rest on an unwarranted confidence about what is going to happen next. \nAll welcome – join the book club chat here: https://chat.whatsapp.com/FEFnTISVzS92VEA7xRDP5M
URL:https://xrnottingham.org/event/next-xr-nottingham-book-club-meeting/
LOCATION:Mammoth Cinema\, 25 Broad St\, Nottingham NG1 3AP\, Mammoth Cinema\, 25 Broad St\, Nottingham NG1 3AP
CATEGORIES:Chat and Connect
ATTACH;FMTTYPE=image/png:https://xrnottingham.org/wp-content/uploads/2024/02/Bookclub-Hope-in-the-Dark.png
ORGANIZER;CN="Extinction Rebellion Nottingham":MAILTO:info@xrnottingham.org
END:VEVENT
BEGIN:VEVENT
DTSTART;TZID=UTC:20240220T130000
DTEND;TZID=UTC:20240220T150000
DTSTAMP:20260425T131131
CREATED:20240209T214824Z
LAST-MODIFIED:20240209T220052Z
UID:11609-1708434000-1708441200@xrnottingham.org
SUMMARY:Climate Cafe - all welcome
DESCRIPTION:All welcome.\nCome and chat\, exchange ideas\, connect with other members\, friendly relaxed space. \nTuesdays 1-3pm\nTea\, coffee\, cake\, chat \nCafe Nero on King Street\, next to Brian Clough statue\n8 King St\, Nottingham NG1 2AS
URL:https://xrnottingham.org/event/climate-cafe-20feb2024/
LOCATION:cafe nero\, 8 king street\, nottingham\, 8 King Street\, Nottingham\, NG1 2AS
CATEGORIES:Chat and Connect
ATTACH;FMTTYPE=image/png:https://xrnottingham.org/wp-content/uploads/2024/02/ClimateCafe2024.png
ORGANIZER;CN="Extinction Rebellion Nottingham":MAILTO:info@xrnottingham.org
END:VEVENT
END:VCALENDAR